BEGIN:VCALENDAR
VERSION:2.0
PRODID:-//UFR Lettres et Philosophie - UBE Dijon - ECPv5.9.0//NONSGML v1.0//EN
CALSCALE:GREGORIAN
METHOD:PUBLISH
X-WR-CALNAME:UFR Lettres et Philosophie - UBE Dijon
X-ORIGINAL-URL:https://ufr-lettres-philosophie.ube.fr
X-WR-CALDESC:évènements pour UFR Lettres et Philosophie - UBE Dijon
BEGIN:VTIMEZONE
TZID:Europe/Paris
BEGIN:DAYLIGHT
TZOFFSETFROM:+0100
TZOFFSETTO:+0200
TZNAME:CEST
DTSTART:20220327T010000
END:DAYLIGHT
BEGIN:STANDARD
TZOFFSETFROM:+0200
TZOFFSETTO:+0100
TZNAME:CET
DTSTART:20221030T010000
END:STANDARD
END:VTIMEZONE
BEGIN:VEVENT
DTSTART;VALUE=DATE:20220221
DTEND;VALUE=DATE:20220301
DTSTAMP:20260424T043015
CREATED:20220215T153148Z
LAST-MODIFIED:20220215T153148Z
UID:8140-1645401600-1646092799@ufr-lettres-philosophie.ube.fr
SUMMARY:Agenda test
DESCRIPTION:zifzfhshjfomzejzjrùpzejfùpmzejrùp
URL:https://ufr-lettres-philosophie.ube.fr/agenda/agenda-test
CATEGORIES:Vie des campus
END:VEVENT
END:VCALENDAR