BEGIN:VCALENDAR
VERSION:2.0
PRODID:-//UFR Lettres et Philosophie - UBE Dijon - ECPv5.9.0//NONSGML v1.0//EN
CALSCALE:GREGORIAN
METHOD:PUBLISH
X-WR-CALNAME:UFR Lettres et Philosophie - UBE Dijon
X-ORIGINAL-URL:https://ufr-lettres-philosophie.ube.fr
X-WR-CALDESC:évènements pour UFR Lettres et Philosophie - UBE Dijon
BEGIN:VTIMEZONE
TZID:Europe/Paris
BEGIN:DAYLIGHT
TZOFFSETFROM:+0100
TZOFFSETTO:+0200
TZNAME:CEST
DTSTART:20220327T010000
END:DAYLIGHT
BEGIN:STANDARD
TZOFFSETFROM:+0200
TZOFFSETTO:+0100
TZNAME:CET
DTSTART:20221030T010000
END:STANDARD
END:VTIMEZONE
BEGIN:VEVENT
DTSTART;TZID=Europe/Paris:20220119T180000
DTEND;TZID=Europe/Paris:20220119T193000
DTSTAMP:20260423T151603
CREATED:20220113T153210Z
LAST-MODIFIED:20230202T153056Z
UID:7764-1642615200-1642620600@ufr-lettres-philosophie.ube.fr
SUMMARY:Atelier broderie
DESCRIPTION:Les ateliers BRODERIE reviennent ce second semestre. Ils sont toujours gratuits et animés par Garance Chaudesaygues.Mais qui dit nouvelle année\, dit quelques changements : – les ateliers auront lieu un mercredi sur deux de 18h à 19h30– des thématiques arrivent ! Broderie texturée\, association aquarelle-broderie\, broderie japonaise… plein de belles choses à expérimenter… \nNiveau débutant – Ateliers d’initiation pour apprendre à faire ses premiers points et créer des motifs simples sur tambour ! \nProchains ateliers\, un mercredi sur deux à 18h\, les 19/01\, 02/02\, 16/02\, 9/03\, 23/03 et 6/04
URL:https://ufr-lettres-philosophie.ube.fr/agenda/atelier-broderie
LOCATION:atheneum\, centre culturel de l’université de Bourgogne\, atheneum\, centre culturel de l'université de Bourgogne
CATEGORIES:Vie des campus
END:VEVENT
END:VCALENDAR