BEGIN:VCALENDAR
VERSION:2.0
PRODID:-//UFR Lettres et Philosophie - UBE Dijon - ECPv5.9.0//NONSGML v1.0//EN
CALSCALE:GREGORIAN
METHOD:PUBLISH
X-WR-CALNAME:UFR Lettres et Philosophie - UBE Dijon
X-ORIGINAL-URL:https://ufr-lettres-philosophie.ube.fr
X-WR-CALDESC:évènements pour UFR Lettres et Philosophie - UBE Dijon
BEGIN:VTIMEZONE
TZID:Europe/Paris
BEGIN:DAYLIGHT
TZOFFSETFROM:+0100
TZOFFSETTO:+0200
TZNAME:CEST
DTSTART:20220327T010000
END:DAYLIGHT
BEGIN:STANDARD
TZOFFSETFROM:+0200
TZOFFSETTO:+0100
TZNAME:CET
DTSTART:20221030T010000
END:STANDARD
END:VTIMEZONE
BEGIN:VEVENT
DTSTART;TZID=Europe/Paris:20220209T180000
DTEND;TZID=Europe/Paris:20220209T200000
DTSTAMP:20260424T021033
CREATED:20220113T153211Z
LAST-MODIFIED:20230202T153057Z
UID:7772-1644429600-1644436800@ufr-lettres-philosophie.ube.fr
SUMMARY:Atelier d'écriture
DESCRIPTION:Vous aimez jouer avec les mots\, les sons\, les sens ?Vous êtes au bon endroit pour apprendre à écrire ou à développer votre style de façonludique et conviviale\, en favorisant le lâcher-prise et la créativité.\nPas de niveau requis\, simplement l’envie de s’essayer à l’écriture\nDans le cadre de la programmation du café culturel\, avec Laurence Gourdon\, animatrice des ateliers d’écriture créative enécritslibres\n \n 
URL:https://ufr-lettres-philosophie.ube.fr/agenda/atelier-decriture-2
LOCATION:atheneum\, centre culturel de l’université de Bourgogne\, atheneum\, centre culturel de l'université de Bourgogne
CATEGORIES:Vie des campus
END:VEVENT
END:VCALENDAR