BEGIN:VCALENDAR
VERSION:2.0
PRODID:-//UFR Lettres et Philosophie - UBE Dijon - ECPv5.9.0//NONSGML v1.0//EN
CALSCALE:GREGORIAN
METHOD:PUBLISH
X-WR-CALNAME:UFR Lettres et Philosophie - UBE Dijon
X-ORIGINAL-URL:https://ufr-lettres-philosophie.ube.fr
X-WR-CALDESC:évènements pour UFR Lettres et Philosophie - UBE Dijon
BEGIN:VTIMEZONE
TZID:Europe/Paris
BEGIN:DAYLIGHT
TZOFFSETFROM:+0100
TZOFFSETTO:+0200
TZNAME:CEST
DTSTART:20220327T010000
END:DAYLIGHT
BEGIN:STANDARD
TZOFFSETFROM:+0200
TZOFFSETTO:+0100
TZNAME:CET
DTSTART:20221030T010000
END:STANDARD
END:VTIMEZONE
BEGIN:VEVENT
DTSTART;TZID=Europe/Paris:20220124T180000
DTEND;TZID=Europe/Paris:20220124T193000
DTSTAMP:20260423T174425
CREATED:20220113T153210Z
LAST-MODIFIED:20230202T153056Z
UID:7765-1643047200-1643052600@ufr-lettres-philosophie.ube.fr
SUMMARY:Atelier Main verte
DESCRIPTION:La cause environnementale te tient à cœur ?Tu souhaites apprendre à reconnaître les différentes espèces de plantes et de fleurs ?Percer les mystères de la biodiversité du campus et rencontrer une super association ? \nRejoins-nous à l’atheneum pour les ateliers Main verte avec l’association Campus Comestible.  La première thématique de l’année porte sur la création de boules de graisse pour les oiseaux et autres découvertes… \nAnimé par l’association Campus Comestible
URL:https://ufr-lettres-philosophie.ube.fr/agenda/atelier-main-verte
LOCATION:atheneum\, centre culturel de l’université de Bourgogne\, atheneum\, centre culturel de l'université de Bourgogne
CATEGORIES:Vie des campus
END:VEVENT
END:VCALENDAR