BEGIN:VCALENDAR
VERSION:2.0
PRODID:-//UFR Lettres et Philosophie - UBE Dijon - ECPv5.9.0//NONSGML v1.0//EN
CALSCALE:GREGORIAN
METHOD:PUBLISH
X-WR-CALNAME:UFR Lettres et Philosophie - UBE Dijon
X-ORIGINAL-URL:https://ufr-lettres-philosophie.ube.fr
X-WR-CALDESC:évènements pour UFR Lettres et Philosophie - UBE Dijon
BEGIN:VTIMEZONE
TZID:Europe/Paris
BEGIN:DAYLIGHT
TZOFFSETFROM:+0100
TZOFFSETTO:+0200
TZNAME:CEST
DTSTART:20210328T010000
END:DAYLIGHT
BEGIN:STANDARD
TZOFFSETFROM:+0200
TZOFFSETTO:+0100
TZNAME:CET
DTSTART:20211031T010000
END:STANDARD
END:VTIMEZONE
BEGIN:VEVENT
DTSTART;TZID=Europe/Paris:20211007T200000
DTEND;TZID=Europe/Paris:20211007T220000
DTSTAMP:20260422T103811
CREATED:20211005T153047Z
LAST-MODIFIED:20230202T153053Z
UID:6719-1633636800-1633644000@ufr-lettres-philosophie.ube.fr
SUMMARY:Bal littéraire
DESCRIPTION:Quelques jours avant le Bal\, cinq écrivains se donnent rendez-vous pour choisir 10 tubes des années 60 à nos jours. Ils se donnent ensuite quelques heures pour écrire une histoire qu’ils découpent en 10 épisodes. Le jour J\, les auteurs sont sous les projecteurs et livrent à plusieurs voix cette histoire écrite à dix mains\, avec intermèdes dansés\, pour ce Bal littéraire unique.
URL:https://ufr-lettres-philosophie.ube.fr/agenda/bal-litteraire
LOCATION:Bibliothèque universitaire – Le Creusot\, Bibliothèque universitaire - Le Creusot
CATEGORIES:Vie des campus
END:VEVENT
END:VCALENDAR