BEGIN:VCALENDAR
VERSION:2.0
PRODID:-//UFR Lettres et Philosophie - UBE Dijon - ECPv5.9.0//NONSGML v1.0//EN
CALSCALE:GREGORIAN
METHOD:PUBLISH
X-WR-CALNAME:UFR Lettres et Philosophie - UBE Dijon
X-ORIGINAL-URL:https://ufr-lettres-philosophie.ube.fr
X-WR-CALDESC:évènements pour UFR Lettres et Philosophie - UBE Dijon
BEGIN:VTIMEZONE
TZID:Europe/Paris
BEGIN:DAYLIGHT
TZOFFSETFROM:+0100
TZOFFSETTO:+0200
TZNAME:CEST
DTSTART:20240331T010000
END:DAYLIGHT
BEGIN:STANDARD
TZOFFSETFROM:+0200
TZOFFSETTO:+0100
TZNAME:CET
DTSTART:20241027T010000
END:STANDARD
END:VTIMEZONE
BEGIN:VEVENT
DTSTART;TZID=Europe/Paris:20240317T101500
DTEND;TZID=Europe/Paris:20240317T101500
DTSTAMP:20260425T184422
CREATED:20240221T151106Z
LAST-MODIFIED:20250702T150934Z
UID:13584-1710670500-1710670500@ufr-lettres-philosophie.ube.fr
SUMMARY:Blue Run
DESCRIPTION:Le 17 mars 2024\, venez courir ou marcher pour la 4ème édition de la BLUE RUN ! \nLa BLUE RUN est une course de santé publique organisée dans le cadre de « Mars Bleu »\, mois de sensibilisation à la prévention et au dépistage du cancer colorectal\, en partenariat avec le CGFL Dijon – Centre Régional De Lutte Contre Le Cancer Georges-François Leclerc\, qui récoltera les <a href="http://fonds. \nUn » target= »_blank » title= »fonds. \nUn »>fonds. \nUn parcours de course de 6 km ou de marche de 2\,3 km vous attend le dimanche 17 mars 2024 au parc de la Colombière à Dijon. De toutes nouvelles activités\, pour petits et grands\, seront aussi proposées le jour de l’évé<a href="http://nement. \nIl » target= »_blank » title= »nement. \nIl »>nement. \nIl y aura notamment la présence de coachs sportifs\, des stands et activités de bien-être ou encore une animation musicale tout au long de l’évènement. Pour ce moment de solidarité en bleu\, notre équipe distribuera pour tous efforts physiques notre t-shirt sportif ainsi que des accessoires ! \nLes inscriptions s’effectuent en ligne par l’intermédiaire du site <a href="Blue » target= »_blank » title= »https://www.helloasso.com/associations/junior-est-service-sante-jess/evenements/inscription-blue-run »>Blue »>https://www.helloasso.com/associations/junior-est-service-sante-jess/evenements/inscription-blue-run »>Blue run jusqu’au 17 Mars 2024 au tarif standard de 13€\, 10€ pour les étudiants et l’entrée est gratuite pour les enfants de moins de 10 ans. Il sera également possible de s’inscrire sur place le jour de l’évé<a href="http://nement. \nAlors… » target= »_blank » title= »nement. \nAlors… »>nement. \nAlors… Prêt à enfiler vos baskets ?  \nEn espérant vous voir nombreux en cette 4ème édition !
URL:https://ufr-lettres-philosophie.ube.fr/agenda/blue-run
LOCATION:Parc de la Colombière – Dijon
CATEGORIES:Vie des campus
END:VEVENT
END:VCALENDAR