BEGIN:VCALENDAR
VERSION:2.0
PRODID:-//UFR Lettres et Philosophie - UBE Dijon - ECPv5.9.0//NONSGML v1.0//EN
CALSCALE:GREGORIAN
METHOD:PUBLISH
X-WR-CALNAME:UFR Lettres et Philosophie - UBE Dijon
X-ORIGINAL-URL:https://ufr-lettres-philosophie.ube.fr
X-WR-CALDESC:évènements pour UFR Lettres et Philosophie - UBE Dijon
BEGIN:VTIMEZONE
TZID:Europe/Paris
BEGIN:DAYLIGHT
TZOFFSETFROM:+0100
TZOFFSETTO:+0200
TZNAME:CEST
DTSTART:20190331T010000
END:DAYLIGHT
BEGIN:STANDARD
TZOFFSETFROM:+0200
TZOFFSETTO:+0100
TZNAME:CET
DTSTART:20191027T010000
END:STANDARD
END:VTIMEZONE
BEGIN:VEVENT
DTSTART;TZID=Europe/Paris:20190919T140000
DTEND;TZID=Europe/Paris:20190919T160000
DTSTAMP:20260426T062422
CREATED:20200117T153230Z
LAST-MODIFIED:20230202T153323Z
UID:2508-1568901600-1568908800@ufr-lettres-philosophie.ube.fr
SUMMARY:Campus Days'19 : Sport pour tous !
DESCRIPTION:Dans le cadre des Campus Days\, le SUAPS vous propose d’essayer de nombreux sports différents. \nLe 19 septembre\, de 14h à 16h\, venez vous initier au golf sur l’esplanade Erasme. \nRetrouvez le programme détaillé des Campus Days prochainement sur uB-link.
URL:https://ufr-lettres-philosophie.ube.fr/agenda/campus-days19-sport-pour-tous-6
LOCATION:Esplanade Erasme\, Esplanade Erasme
CATEGORIES:Vie des campus
END:VEVENT
END:VCALENDAR