BEGIN:VCALENDAR
VERSION:2.0
PRODID:-//UFR Lettres et Philosophie - UBE Dijon - ECPv5.9.0//NONSGML v1.0//EN
CALSCALE:GREGORIAN
METHOD:PUBLISH
X-WR-CALNAME:UFR Lettres et Philosophie - UBE Dijon
X-ORIGINAL-URL:https://ufr-lettres-philosophie.ube.fr
X-WR-CALDESC:évènements pour UFR Lettres et Philosophie - UBE Dijon
BEGIN:VTIMEZONE
TZID:Europe/Paris
BEGIN:DAYLIGHT
TZOFFSETFROM:+0100
TZOFFSETTO:+0200
TZNAME:CEST
DTSTART:20190331T010000
END:DAYLIGHT
BEGIN:STANDARD
TZOFFSETFROM:+0200
TZOFFSETTO:+0100
TZNAME:CET
DTSTART:20191027T010000
END:STANDARD
END:VTIMEZONE
BEGIN:VEVENT
DTSTART;TZID=Europe/Paris:20191128T080000
DTEND;TZID=Europe/Paris:20191128T170000
DTSTAMP:20260424T234236
CREATED:20200117T153236Z
LAST-MODIFIED:20230202T153326Z
UID:2555-1574928000-1574960400@ufr-lettres-philosophie.ube.fr
SUMMARY:Cérémonie de remise des diplômes
DESCRIPTION:L’ESIREM mettra à l’honneur les diplômés des Promotions Fer et Neumann Samedi 25 janvier 2020 à 13h30 en Amphithéâtre Galilée. \n \n  \n  \n  \n  \n  \n  \n  \n  \n  \n  \n  \n  \nPour toute demande d’informations : hannah.grandjean@u-bourgogne.fr \n 
URL:https://ufr-lettres-philosophie.ube.fr/agenda/ceremonie-de-remise-des-diplomes
LOCATION:Amphi Galilée – Dijon\, Amphi Galilée - Dijon
CATEGORIES:Vie des campus
END:VEVENT
END:VCALENDAR