BEGIN:VCALENDAR
VERSION:2.0
PRODID:-//UFR Lettres et Philosophie - UBE Dijon - ECPv5.9.0//NONSGML v1.0//EN
CALSCALE:GREGORIAN
METHOD:PUBLISH
X-WR-CALNAME:UFR Lettres et Philosophie - UBE Dijon
X-ORIGINAL-URL:https://ufr-lettres-philosophie.ube.fr
X-WR-CALDESC:évènements pour UFR Lettres et Philosophie - UBE Dijon
BEGIN:VTIMEZONE
TZID:Europe/Paris
BEGIN:DAYLIGHT
TZOFFSETFROM:+0100
TZOFFSETTO:+0200
TZNAME:CEST
DTSTART:20240331T010000
END:DAYLIGHT
BEGIN:STANDARD
TZOFFSETFROM:+0200
TZOFFSETTO:+0100
TZNAME:CET
DTSTART:20241027T010000
END:STANDARD
END:VTIMEZONE
BEGIN:VEVENT
DTSTART;TZID=Europe/Paris:20240328T083000
DTEND;TZID=Europe/Paris:20240328T163000
DTSTAMP:20260423T070159
CREATED:20240311T154715Z
LAST-MODIFIED:20240311T154715Z
UID:13610-1711614600-1711643400@ufr-lettres-philosophie.ube.fr
SUMMARY:Colloque international : "Les jeux vidéos rendent-ils stupides ? Usages des jeux vidéos au profit de l’Humanité !"
DESCRIPTION: 
URL:https://ufr-lettres-philosophie.ube.fr/agenda/colloque-international-les-jeux-videos-rendent-ils-stupides-usages-des-jeux-videos-au-profit-de-lhumanite
LOCATION:Maison des Sciences de l’Homme (MSH) – Dijon\, Maison des Sciences de l'Homme (MSH) - Dijon
CATEGORIES:Lettres et Philosophie
ATTACH;FMTTYPE=image/jpeg:https://ufr-lettres-philosophie.ube.fr/wp-content/uploads/2024/03/Programme_Colloque_JV_VF-1-scaled-1.jpg
END:VEVENT
END:VCALENDAR