BEGIN:VCALENDAR
VERSION:2.0
PRODID:-//UFR Lettres et Philosophie - UBE Dijon - ECPv5.9.0//NONSGML v1.0//EN
CALSCALE:GREGORIAN
METHOD:PUBLISH
X-WR-CALNAME:UFR Lettres et Philosophie - UBE Dijon
X-ORIGINAL-URL:https://ufr-lettres-philosophie.ube.fr
X-WR-CALDESC:évènements pour UFR Lettres et Philosophie - UBE Dijon
BEGIN:VTIMEZONE
TZID:Europe/Paris
BEGIN:DAYLIGHT
TZOFFSETFROM:+0100
TZOFFSETTO:+0200
TZNAME:CEST
DTSTART:20190331T010000
END:DAYLIGHT
BEGIN:STANDARD
TZOFFSETFROM:+0200
TZOFFSETTO:+0100
TZNAME:CET
DTSTART:20191027T010000
END:STANDARD
END:VTIMEZONE
BEGIN:VEVENT
DTSTART;TZID=Europe/Paris:20191007T180000
DTEND;TZID=Europe/Paris:20191007T180000
DTSTAMP:20260425T195458
CREATED:20190823T064356Z
LAST-MODIFIED:20230202T153324Z
UID:1642-1570471200-1570471200@ufr-lettres-philosophie.ube.fr
SUMMARY:Conférence - Insolites remèdes d'origine animale : voyage au siècle des Lumières
DESCRIPTION:Avec l’exemple de l’Histoire générale des drogues\, simples et composées de Pierre Pomet\, par Mathieu Guerriaud\, maître de conférence en droit pharmaceutique et de la santé à l’université de Bourgogne. \nDans le cadre de l’opération « Patrimoines Ecrits ».
URL:https://ufr-lettres-philosophie.ube.fr/agenda/conference-insolites-remedes-dorigine-animale-voyage-au-siecle-des-lumieres
LOCATION:BU Droit Lettres – Dijon\, BU Droit Lettres - Dijon
CATEGORIES:Vie des campus
END:VEVENT
END:VCALENDAR