BEGIN:VCALENDAR
VERSION:2.0
PRODID:-//UFR Lettres et Philosophie - UBE Dijon - ECPv5.9.0//NONSGML v1.0//EN
CALSCALE:GREGORIAN
METHOD:PUBLISH
X-WR-CALNAME:UFR Lettres et Philosophie - UBE Dijon
X-ORIGINAL-URL:https://ufr-lettres-philosophie.ube.fr
X-WR-CALDESC:évènements pour UFR Lettres et Philosophie - UBE Dijon
BEGIN:VTIMEZONE
TZID:Europe/Paris
BEGIN:DAYLIGHT
TZOFFSETFROM:+0100
TZOFFSETTO:+0200
TZNAME:CEST
DTSTART:20250330T010000
END:DAYLIGHT
BEGIN:STANDARD
TZOFFSETFROM:+0200
TZOFFSETTO:+0100
TZNAME:CET
DTSTART:20251026T010000
END:STANDARD
END:VTIMEZONE
BEGIN:VEVENT
DTSTART;TZID=Europe/Paris:20250123T160000
DTEND;TZID=Europe/Paris:20250123T180000
DTSTAMP:20260422T115513
CREATED:20250117T093015Z
LAST-MODIFIED:20250117T093351Z
UID:14802-1737648000-1737655200@ufr-lettres-philosophie.ube.fr
SUMMARY:Conférence « Pour une insurrection des sens » par Jean-Philippe Pierron
DESCRIPTION:On peut danser\, jouer ou écouter pour prendre soin du monde. Nos arts vivants sont des arts d’être vivants. Mais pourquoi la monoculture de nos espaces de vie écrase-t-elle la pluralité de ces arts ? Comment répliquer à l’anesthésie de nos sensibilités qu’engendrent nos machines à nourrir\, à habiter ou à extraire ?   \nPour cette conférence\, nous ferons l’hypothèse que\, face à la brutalité des extractions morbides\, un art des égards répond présent. À la pulsion de mort d’une culture qui veut tout maîtriser\, les arts vivants\, ceux des artistes et des artisans\, résistent et nous rendent existants. Ne se découvre-t-il pas alors une chanson de gestes\, celle de tous ceux qui nous font tenir debout sur la terre ?  De la danse à la cueillette\, de la cuisine aux cabanes\, du soin des mots à celui de l’ébéniste s’inventent des manières d’entrer en nature par une culture des lieux et un art des relations ? Sans doute que notre tâche est aussi là : apprendre à faire pousser des gestes ajustés.  \n\nJean-Philippe Pierron est Professeur des universités en philosophie de la vie\, de la médecine et du soin\, au Département de philosophie\, UMR LIR3S\, responsable du master humanités médicales et environnementales à l’Université Bourgogne Europe\, il est également Directeur de la chaire Valeurs du soin de l’Université Jean-Moulin Lyon 3. \nIl fait partie de l’équipe du Graduate Programme “Imaginaires à l’ère de l’anthropocène (corps\, techniques\, patrimoines)”. \nCe Graduate Programme est une projet de partenariat entre l’ENSAD Dijon et le département de philosophie de l’Université Bourgogne Europe. \n  \nInformations pratiques :\nJeudi 23 janvier de 16h à 18h Institut Denis Diderot\, 36 rue Chabot Charny\, (amphithéâtre D. Diderot)
URL:https://ufr-lettres-philosophie.ube.fr/agenda/conference-pour-une-insurrection-des-sens-par-jean-philippe-pierron
LOCATION:amphithéâtre D. Diderot
CATEGORIES:Lettres et Philosophie
END:VEVENT
END:VCALENDAR