BEGIN:VCALENDAR
VERSION:2.0
PRODID:-//UFR Lettres et Philosophie - UBE Dijon - ECPv5.9.0//NONSGML v1.0//EN
CALSCALE:GREGORIAN
METHOD:PUBLISH
X-WR-CALNAME:UFR Lettres et Philosophie - UBE Dijon
X-ORIGINAL-URL:https://ufr-lettres-philosophie.ube.fr
X-WR-CALDESC:évènements pour UFR Lettres et Philosophie - UBE Dijon
BEGIN:VTIMEZONE
TZID:Europe/Paris
BEGIN:DAYLIGHT
TZOFFSETFROM:+0100
TZOFFSETTO:+0200
TZNAME:CEST
DTSTART:20190331T010000
END:DAYLIGHT
BEGIN:STANDARD
TZOFFSETFROM:+0200
TZOFFSETTO:+0100
TZNAME:CET
DTSTART:20191027T010000
END:STANDARD
END:VTIMEZONE
BEGIN:VEVENT
DTSTART;TZID=Europe/Paris:20191017T180000
DTEND;TZID=Europe/Paris:20191017T190000
DTSTAMP:20260425T143544
CREATED:20200117T153233Z
LAST-MODIFIED:20230202T153325Z
UID:2538-1571335200-1571338800@ufr-lettres-philosophie.ube.fr
SUMMARY:Conférence sur le don d'organes
DESCRIPTION:À l’occasion de la journée mondiale du don d’organes et de la greffe\, la CEMD vous convie à une conférence présentée par M. Jean-Paul PITTET\, président de l’Association pour le Don d’Organes et de Tissus Humains de Côte d’Or. \nCette intervention aura lieu le jeudi 17 octobre à 18h à l’UFR des Sciences de Santé\, amphithéâtre Martin\, et se déroulera sous la forme d’une présentation du don d’organes\, suivie d’interventions et témoignages de personnes greffées\, puis ce sera le champ libre aux débats ou questionnements. \nCette conférence interactive aborde un sujet très important\, dont les progrès ne cessent d’évoluer en matière de soin et de qualité de vie pour les patients. Elle est ouverte à tous.  \nUn stand d’information et de sensibilisation au don d’organes sera également présent de 16h à 18h\, dans le hall de l’UFR. \nVENEZ NOMBREUX !
URL:https://ufr-lettres-philosophie.ube.fr/agenda/conference-sur-le-don-dorganes
LOCATION:Bâtiment médecine / pharmacie – Dijon\, Bâtiment médecine / pharmacie - Dijon
CATEGORIES:Vie des campus
END:VEVENT
END:VCALENDAR