BEGIN:VCALENDAR
VERSION:2.0
PRODID:-//UFR Lettres et Philosophie - UBE Dijon - ECPv5.9.0//NONSGML v1.0//EN
CALSCALE:GREGORIAN
METHOD:PUBLISH
X-WR-CALNAME:UFR Lettres et Philosophie - UBE Dijon
X-ORIGINAL-URL:https://ufr-lettres-philosophie.ube.fr
X-WR-CALDESC:évènements pour UFR Lettres et Philosophie - UBE Dijon
BEGIN:VTIMEZONE
TZID:Europe/Paris
BEGIN:DAYLIGHT
TZOFFSETFROM:+0100
TZOFFSETTO:+0200
TZNAME:CEST
DTSTART:20220327T010000
END:DAYLIGHT
BEGIN:STANDARD
TZOFFSETFROM:+0200
TZOFFSETTO:+0100
TZNAME:CET
DTSTART:20221030T010000
END:STANDARD
END:VTIMEZONE
BEGIN:VEVENT
DTSTART;TZID=Europe/Paris:20220308T130000
DTEND;TZID=Europe/Paris:20220308T130000
DTSTAMP:20260424T133901
CREATED:20220217T153053Z
LAST-MODIFIED:20230202T153058Z
UID:8159-1646744400-1646744400@ufr-lettres-philosophie.ube.fr
SUMMARY:Conférence : Un réseau de verre ou comment la fibre optique permet de battre tous les records
DESCRIPTION:Les fibres optiques sont des petits fils de verre pas plus épais qu’un cheveu mais elles sont un élément-clef des communications et du développement d’Internet. Si vous ne saviez pas que le verre est plus rapide que l’éclair ou que la lumière transmet des milliers de milliards d’informations par seconde sur des milliers de kilomètres\, venez rencontrer Christophe Finot\, chercheur en photonique au Laboratoire Interdisciplinaire Carnot de Bourgogne (ICB). \nLimité aux membres de l’uB (jauge minimum fixée à 6 personnes).
URL:https://ufr-lettres-philosophie.ube.fr/agenda/conference-un-reseau-de-verre-ou-comment-la-fibre-optique-permet-de-battre-tous-les-records
LOCATION:BU Le Cortex\, BU Le Cortex
CATEGORIES:Vie des campus
END:VEVENT
END:VCALENDAR