BEGIN:VCALENDAR
VERSION:2.0
PRODID:-//UFR Lettres et Philosophie - UBE Dijon - ECPv5.9.0//NONSGML v1.0//EN
CALSCALE:GREGORIAN
METHOD:PUBLISH
X-WR-CALNAME:UFR Lettres et Philosophie - UBE Dijon
X-ORIGINAL-URL:https://ufr-lettres-philosophie.ube.fr
X-WR-CALDESC:évènements pour UFR Lettres et Philosophie - UBE Dijon
BEGIN:VTIMEZONE
TZID:Europe/Paris
BEGIN:DAYLIGHT
TZOFFSETFROM:+0100
TZOFFSETTO:+0200
TZNAME:CEST
DTSTART:20200329T010000
END:DAYLIGHT
BEGIN:STANDARD
TZOFFSETFROM:+0200
TZOFFSETTO:+0100
TZNAME:CET
DTSTART:20201025T010000
END:STANDARD
END:VTIMEZONE
BEGIN:VEVENT
DTSTART;TZID=Europe/Paris:20200120T100000
DTEND;TZID=Europe/Paris:20200120T100000
DTSTAMP:20260424T155516
CREATED:20200120T153233Z
LAST-MODIFIED:20230202T153327Z
UID:2618-1579514400-1579514400@ufr-lettres-philosophie.ube.fr
SUMMARY:Contrat Pédagogique de Réussite Étudiante
DESCRIPTION:Tous les étudiants de L1 sont invité à créer\, remplir et signer leur contrat pédagogique avant le 20 mars 2020. \nL’application ConPeRE est accessible sur l’ENT dans l’onglet Scolarité. \nUne rubrique d’aide et un pas-à-pas sont à votre disposition dans l’application.
URL:https://ufr-lettres-philosophie.ube.fr/agenda/contrat-pedagogique-de-reussite-etudiante
CATEGORIES:Vie des campus
END:VEVENT
END:VCALENDAR