BEGIN:VCALENDAR
VERSION:2.0
PRODID:-//UFR Lettres et Philosophie - UBE Dijon - ECPv5.9.0//NONSGML v1.0//EN
CALSCALE:GREGORIAN
METHOD:PUBLISH
X-WR-CALNAME:UFR Lettres et Philosophie - UBE Dijon
X-ORIGINAL-URL:https://ufr-lettres-philosophie.ube.fr
X-WR-CALDESC:évènements pour UFR Lettres et Philosophie - UBE Dijon
BEGIN:VTIMEZONE
TZID:Europe/Paris
BEGIN:DAYLIGHT
TZOFFSETFROM:+0100
TZOFFSETTO:+0200
TZNAME:CEST
DTSTART:20200329T010000
END:DAYLIGHT
BEGIN:STANDARD
TZOFFSETFROM:+0200
TZOFFSETTO:+0100
TZNAME:CET
DTSTART:20201025T010000
END:STANDARD
END:VTIMEZONE
BEGIN:VEVENT
DTSTART;VALUE=DATE:20200316
DTEND;VALUE=DATE:20200512
DTSTAMP:20260423T054340
CREATED:20200320T153027Z
LAST-MODIFIED:20201011T153130Z
UID:2857-1584316800-1589241599@ufr-lettres-philosophie.ube.fr
SUMMARY:Coronavirus Covid-19 > annulation des manifestations publiques pendant la période de confinement
DESCRIPTION:Toutes les manifestations publiques sont annulées durant la période de confinement et jusqu’à nouvel ordre. \nCoronavirus Covid19 – Informations utiles
URL:https://ufr-lettres-philosophie.ube.fr/agenda/coronavirus-covid-19-annulation-des-manifestations-publiques-pendant-la-periode-de-confinement
CATEGORIES:Lettres et Philosophie
END:VEVENT
END:VCALENDAR