BEGIN:VCALENDAR
VERSION:2.0
PRODID:-//UFR Lettres et Philosophie - UBE Dijon - ECPv5.9.0//NONSGML v1.0//EN
CALSCALE:GREGORIAN
METHOD:PUBLISH
X-WR-CALNAME:UFR Lettres et Philosophie - UBE Dijon
X-ORIGINAL-URL:https://ufr-lettres-philosophie.ube.fr
X-WR-CALDESC:évènements pour UFR Lettres et Philosophie - UBE Dijon
BEGIN:VTIMEZONE
TZID:Europe/Paris
BEGIN:DAYLIGHT
TZOFFSETFROM:+0100
TZOFFSETTO:+0200
TZNAME:CEST
DTSTART:20210328T010000
END:DAYLIGHT
BEGIN:STANDARD
TZOFFSETFROM:+0200
TZOFFSETTO:+0100
TZNAME:CET
DTSTART:20211031T010000
END:STANDARD
END:VTIMEZONE
BEGIN:VEVENT
DTSTART;TZID=Europe/Paris:20211109T190000
DTEND;TZID=Europe/Paris:20211109T203000
DTSTAMP:20260422T182735
CREATED:20211015T153642Z
LAST-MODIFIED:20230202T153452Z
UID:6824-1636484400-1636489800@ufr-lettres-philosophie.ube.fr
SUMMARY:Cycle « Femmes et féminismes » - Conférence Anne Tomiche
DESCRIPTION:La deuxième conférence du cycle « Femmes et féminismes » proposé cette année par l’UFR Lettres et Philosophie de l’université de Bourgogne accueille Anne Tomiche\, professeure de littérature comparée à l’Université Paris Sorbonne.  \nPlus d’infos sur : https://ufr-lettres-philosophie.ube.fr/actualites/conference-femmes-et-feminismes-anne-tomiche.html
URL:https://ufr-lettres-philosophie.ube.fr/agenda/cycle-femmes-et-feminismes-conference-anne-tomiche
LOCATION:Faculté Chabot-Charny – Dijon\, Faculté Chabot-Charny - Dijon
CATEGORIES:Lettres et Philosophie
END:VEVENT
END:VCALENDAR