BEGIN:VCALENDAR
VERSION:2.0
PRODID:-//UFR Lettres et Philosophie - UBE Dijon - ECPv5.9.0//NONSGML v1.0//EN
CALSCALE:GREGORIAN
METHOD:PUBLISH
X-WR-CALNAME:UFR Lettres et Philosophie - UBE Dijon
X-ORIGINAL-URL:https://ufr-lettres-philosophie.ube.fr
X-WR-CALDESC:évènements pour UFR Lettres et Philosophie - UBE Dijon
BEGIN:VTIMEZONE
TZID:Europe/Paris
BEGIN:DAYLIGHT
TZOFFSETFROM:+0100
TZOFFSETTO:+0200
TZNAME:CEST
DTSTART:20200329T010000
END:DAYLIGHT
BEGIN:STANDARD
TZOFFSETFROM:+0200
TZOFFSETTO:+0100
TZNAME:CET
DTSTART:20201025T010000
END:STANDARD
END:VTIMEZONE
BEGIN:VEVENT
DTSTART;TZID=Europe/Paris:20200414T100000
DTEND;TZID=Europe/Paris:20200414T160000
DTSTAMP:20260423T020035
CREATED:20200324T153310Z
LAST-MODIFIED:20230202T153330Z
UID:2878-1586858400-1586880000@ufr-lettres-philosophie.ube.fr
SUMMARY:Don du sang
DESCRIPTION: Donnez votre sang le mardi 14 avril 2020 de 10h à 16h à la Salle Multiplex du campus de Dijon.
URL:https://ufr-lettres-philosophie.ube.fr/agenda/don-du-sang-2
LOCATION:Salle Multiplex\, Salle Multiplex
CATEGORIES:Vie des campus
END:VEVENT
END:VCALENDAR