BEGIN:VCALENDAR
VERSION:2.0
PRODID:-//UFR Lettres et Philosophie - UBE Dijon - ECPv5.9.0//NONSGML v1.0//EN
CALSCALE:GREGORIAN
METHOD:PUBLISH
X-WR-CALNAME:UFR Lettres et Philosophie - UBE Dijon
X-ORIGINAL-URL:https://ufr-lettres-philosophie.ube.fr
X-WR-CALDESC:évènements pour UFR Lettres et Philosophie - UBE Dijon
BEGIN:VTIMEZONE
TZID:Europe/Paris
BEGIN:DAYLIGHT
TZOFFSETFROM:+0100
TZOFFSETTO:+0200
TZNAME:CEST
DTSTART:20220327T010000
END:DAYLIGHT
BEGIN:STANDARD
TZOFFSETFROM:+0200
TZOFFSETTO:+0100
TZNAME:CET
DTSTART:20221030T010000
END:STANDARD
END:VTIMEZONE
BEGIN:VEVENT
DTSTART;TZID=Europe/Paris:20220118T100000
DTEND;TZID=Europe/Paris:20220118T160000
DTSTAMP:20260423T135152
CREATED:20220112T153137Z
LAST-MODIFIED:20230202T153056Z
UID:7753-1642500000-1642521600@ufr-lettres-philosophie.ube.fr
SUMMARY:Don du sang
DESCRIPTION:Don du sang mardi 18 janvier 2022 de 10h à 16h à la Maison de l’Étudiant.
URL:https://ufr-lettres-philosophie.ube.fr/agenda/don-du-sang-7
LOCATION:Maison de l’Etudiant – Dijon\, Maison de l’Etudiant - Dijon
CATEGORIES:Vie des campus
END:VEVENT
END:VCALENDAR