BEGIN:VCALENDAR
VERSION:2.0
PRODID:-//UFR Lettres et Philosophie - UBE Dijon - ECPv5.9.0//NONSGML v1.0//EN
CALSCALE:GREGORIAN
METHOD:PUBLISH
X-WR-CALNAME:UFR Lettres et Philosophie - UBE Dijon
X-ORIGINAL-URL:https://ufr-lettres-philosophie.ube.fr
X-WR-CALDESC:évènements pour UFR Lettres et Philosophie - UBE Dijon
BEGIN:VTIMEZONE
TZID:Europe/Paris
BEGIN:DAYLIGHT
TZOFFSETFROM:+0100
TZOFFSETTO:+0200
TZNAME:CEST
DTSTART:20220327T010000
END:DAYLIGHT
BEGIN:STANDARD
TZOFFSETFROM:+0200
TZOFFSETTO:+0100
TZNAME:CET
DTSTART:20221030T010000
END:STANDARD
END:VTIMEZONE
BEGIN:VEVENT
DTSTART;TZID=Europe/Paris:20220307T080000
DTEND;TZID=Europe/Paris:20220307T080000
DTSTAMP:20260424T110859
CREATED:20220308T153251Z
LAST-MODIFIED:20220322T153108Z
UID:8322-1646640000-1646640000@ufr-lettres-philosophie.ube.fr
SUMMARY:Exposition 8 femmes en BD
DESCRIPTION:Découvrez à travers la bande dessinée les portraits de 8 femmes qui ont pris leur destin en main pour mener la vie de leur choix. \nExposition visible aux horaires d’ouverture de la bibliothèque et en ligne.
URL:https://ufr-lettres-philosophie.ube.fr/agenda/exposition-8-femmes-en-bd
LOCATION:BU Le Cortex\, BU Le Cortex
CATEGORIES:Vie des campus
END:VEVENT
END:VCALENDAR