BEGIN:VCALENDAR
VERSION:2.0
PRODID:-//UFR Lettres et Philosophie - UBE Dijon - ECPv5.9.0//NONSGML v1.0//EN
CALSCALE:GREGORIAN
METHOD:PUBLISH
X-WR-CALNAME:UFR Lettres et Philosophie - UBE Dijon
X-ORIGINAL-URL:https://ufr-lettres-philosophie.ube.fr
X-WR-CALDESC:évènements pour UFR Lettres et Philosophie - UBE Dijon
BEGIN:VTIMEZONE
TZID:Europe/Paris
BEGIN:DAYLIGHT
TZOFFSETFROM:+0100
TZOFFSETTO:+0200
TZNAME:CEST
DTSTART:20220327T010000
END:DAYLIGHT
BEGIN:STANDARD
TZOFFSETFROM:+0200
TZOFFSETTO:+0100
TZNAME:CET
DTSTART:20221030T010000
END:STANDARD
END:VTIMEZONE
BEGIN:VEVENT
DTSTART;TZID=Europe/Paris:20220314T080000
DTEND;TZID=Europe/Paris:20221231T170000
DTSTAMP:20260424T155544
CREATED:20220315T153408Z
LAST-MODIFIED:20230202T153058Z
UID:8389-1647244800-1672506000@ufr-lettres-philosophie.ube.fr
SUMMARY:Exposition : les origines du campus Montmuzard
DESCRIPTION:Une expo visible dans le hall de l’UFR SVTE\, faculté des sciences\, 6 bd Gabriel à partir du 14 mars et ce jusqu’à la fin de animations de ce 300è anniversaire. Visible tous les jours du lundi au samedi matin\, même en période de vacances universitaires (samedi exclu durant les vacances). \n\nPlus d’infos sur le site des 300 ans de l’uB\n\n  \nUn événement des 300 ans de l’université de Bourgogne
URL:https://ufr-lettres-philosophie.ube.fr/agenda/exposition-les-origines-du-campus-montmuzard
LOCATION:Bâtiment Sciences Gabriel – Dijon\, Bâtiment Sciences Gabriel - Dijon
CATEGORIES:Vie des campus
END:VEVENT
END:VCALENDAR