BEGIN:VCALENDAR
VERSION:2.0
PRODID:-//UFR Lettres et Philosophie - UBE Dijon - ECPv5.9.0//NONSGML v1.0//EN
CALSCALE:GREGORIAN
METHOD:PUBLISH
X-WR-CALNAME:UFR Lettres et Philosophie - UBE Dijon
X-ORIGINAL-URL:https://ufr-lettres-philosophie.ube.fr
X-WR-CALDESC:évènements pour UFR Lettres et Philosophie - UBE Dijon
BEGIN:VTIMEZONE
TZID:Europe/Paris
BEGIN:DAYLIGHT
TZOFFSETFROM:+0100
TZOFFSETTO:+0200
TZNAME:CEST
DTSTART:20240331T010000
END:DAYLIGHT
BEGIN:STANDARD
TZOFFSETFROM:+0200
TZOFFSETTO:+0100
TZNAME:CET
DTSTART:20241027T010000
END:STANDARD
END:VTIMEZONE
BEGIN:VEVENT
DTSTART;TZID=Europe/Paris:20240328T200000
DTEND;TZID=Europe/Paris:20240328T210000
DTSTAMP:20260423T042842
CREATED:20240313T150942Z
LAST-MODIFIED:20250702T150935Z
UID:13633-1711656000-1711659600@ufr-lettres-philosophie.ube.fr
SUMMARY:Fauve - Festival Art Danse
DESCRIPTION:Les Ardennes\, la Forêt-Noire\, Brocéliande ou le Vexin. Les forêts sont des espaces qui échappent à l’appréhension immédiate. Les humains et les animaux s’y dissimulent et s’y traquent\, s’y cachent et s’y piègent\, s’y poursuivent et s’y sèment. Lieux de calme\, de méditation\, d’extase et de vie\, elles sont aussi des environnements menaçants et toxiques. Dans Αγρίμι (Fauve)\, Lenio Kaklea chorégraphie à partir de ces espaces un méticuleux ensauvagement des corps. Les exercices\, les danses et les rituels qu’elle déploie sur scène explorent ce lieu physique et imaginaire où s’opèrent la dissolution des identités et la métamorphose des corps. Elle noue\, ainsi\, pour la première fois son travail de création chorégraphique à la richesse géographique\, environnementale et poétique des forêts. La danse y apparaît comme l’une des zones à dé<a href="http://fendre. \n » target= »_blank » title= »fendre. \n« >fendre.
URL:https://ufr-lettres-philosophie.ube.fr/agenda/fauve-festival-art-danse
LOCATION:atheneum\, centre culturel de l’université de Bourgogne\, atheneum\, centre culturel de l'université de Bourgogne
CATEGORIES:Vie des campus
END:VEVENT
END:VCALENDAR