BEGIN:VCALENDAR
VERSION:2.0
PRODID:-//UFR Lettres et Philosophie - UBE Dijon - ECPv5.9.0//NONSGML v1.0//EN
CALSCALE:GREGORIAN
METHOD:PUBLISH
X-WR-CALNAME:UFR Lettres et Philosophie - UBE Dijon
X-ORIGINAL-URL:https://ufr-lettres-philosophie.ube.fr
X-WR-CALDESC:évènements pour UFR Lettres et Philosophie - UBE Dijon
BEGIN:VTIMEZONE
TZID:Europe/Paris
BEGIN:DAYLIGHT
TZOFFSETFROM:+0100
TZOFFSETTO:+0200
TZNAME:CEST
DTSTART:20240331T010000
END:DAYLIGHT
BEGIN:STANDARD
TZOFFSETFROM:+0200
TZOFFSETTO:+0100
TZNAME:CET
DTSTART:20241027T010000
END:STANDARD
END:VTIMEZONE
BEGIN:VEVENT
DTSTART;TZID=Europe/Paris:20240302T080000
DTEND;TZID=Europe/Paris:20240302T080000
DTSTAMP:20260426T043745
CREATED:20240319T150953Z
LAST-MODIFIED:20250702T150933Z
UID:13715-1709366400-1709366400@ufr-lettres-philosophie.ube.fr
SUMMARY:Festival Ose ! 1ère édition
DESCRIPTION:Ose ! succède au festival Danse à l’université qui a connu 18 éditions intenses et festives en matière de créations chorégraphiques étudiantes. La version Ose ! reste dans le même esprit : mettre à l’honneur la création étudiante\, avec le désir de s’ouvrir à la pluridisciplinarité. \nLes cinq jours de festival passent en revu cinq disciplines artistiques : musique\, arts visuels\, danse\, performance et théâtre. À l’origine de cette transformation\, l’envie pour l’équipe organisatrice de se renouveller et de s’adapter au terrain universitaire en révélant le talent des étudiant·e·s. \n  \nPour ce printemps 2024\, la période sera à l’heure du rafraîchissement et du foisonnement avec un festival créé PAR et POUR les étudiant·e·s de l’université de Bourgogne. Les rendez-vous sont imaginés par deux étudiants en Licence professionnalisante Gestion de projets et structures artistiques dans les arts vivants en Staps Dijon\, accompagnés par l’équipe de l’<a href="http://atheneum. \n  \nCette » target= »_blank » title= »atheneum. \n  \nCette »>atheneum. \n  \nCette envie de laisser la place à la parole étudiante fait entièrement partie des missions et valeurs du centre culturel. Le festival s’intègre à l’évènement national des JACES – les Journées des Arts et de la Culture dans l’enseignement supérieur. Côté propositions\, toute la programmation est née de projets étudiants : ateliers\, performances\, créations… Le challenge de cette édition est bien d’Oser montrer la création étudiante aux yeux de tous. Oser se montrer\, s’exprimer\, créer\, se lancer\, expérimenter\, partager\, lâcher le bord de la piscine en quelque sorte… \n  \nInformations : <a href="https://atheneum.u-bourgogne.fr/programmation-agenda/ose-festival-par-et-pour-https://atheneum.u-bourgogne.fr/programmation-agenda/ose-festival-par-et-pour-https://atheneum.u-bourgogne.fr/programmation-agenda/ose-festival-par-et-pour-les-etudiants/ »>https://atheneum.u-bourgogne.fr/programmation-agenda/ose-festival-par-et-pour-<a href= »les-etudiants/ \nBilleterie » target= »_blank » title= »https://atheneum.u-bourgogne.fr/programmation-agenda/ose-festival-par-et-pour-les-etudiants/ »>les-etudiants/ \nBilleterie »>https://atheneum.u-bourgogne.fr/programmation-agenda/ose-festival-par-et-pour-les-etudiants/ »>les-etudiants/ \nBilleterie : <a href="https://atheneum.u-bourgogne.fr/billetterie/ \n » target= »_blank » title= »https://atheneum.u-bourgogne.fr/billetterie/ »>https://atheneum.u-bourgogne.fr/billetterie/ \n« >https://atheneum.u-bourgogne.fr/billetterie/ »>https://atheneum.u-bourgogne.fr/billetterie/
URL:https://ufr-lettres-philosophie.ube.fr/agenda/festival-ose-1ere-edition
LOCATION:atheneum\, centre culturel de l’université de Bourgogne\, atheneum\, centre culturel de l'université de Bourgogne
CATEGORIES:Vie des campus
END:VEVENT
END:VCALENDAR