BEGIN:VCALENDAR
VERSION:2.0
PRODID:-//UFR Lettres et Philosophie - UBE Dijon - ECPv5.9.0//NONSGML v1.0//EN
CALSCALE:GREGORIAN
METHOD:PUBLISH
X-WR-CALNAME:UFR Lettres et Philosophie - UBE Dijon
X-ORIGINAL-URL:https://ufr-lettres-philosophie.ube.fr
X-WR-CALDESC:évènements pour UFR Lettres et Philosophie - UBE Dijon
BEGIN:VTIMEZONE
TZID:Europe/Paris
BEGIN:DAYLIGHT
TZOFFSETFROM:+0100
TZOFFSETTO:+0200
TZNAME:CEST
DTSTART:20240331T010000
END:DAYLIGHT
BEGIN:STANDARD
TZOFFSETFROM:+0200
TZOFFSETTO:+0100
TZNAME:CET
DTSTART:20241027T010000
END:STANDARD
END:VTIMEZONE
BEGIN:VEVENT
DTSTART;TZID=Europe/Paris:20240329T180000
DTEND;TZID=Europe/Paris:20240329T233000
DTSTAMP:20260423T031346
CREATED:20240313T150942Z
LAST-MODIFIED:20250702T150935Z
UID:13634-1711735200-1711755000@ufr-lettres-philosophie.ube.fr
SUMMARY:Gaming Night
DESCRIPTION:Des soirées autour des jeux vidéos\, anciens et nouveaux\, sur pc ou <a href="http://console.<br" target="_blank" title="console.console.<br /> Des LAN sont régulièrement organisées autour du jeu Super Smash Bros <a href="http://Ultimate. \n » target= »_blank » title= »Ultimate. \n« >Ultimate.
URL:https://ufr-lettres-philosophie.ube.fr/agenda/gaming-night-8
LOCATION:atheneum\, centre culturel de l’université de Bourgogne\, atheneum\, centre culturel de l'université de Bourgogne
CATEGORIES:Vie des campus
END:VEVENT
END:VCALENDAR