BEGIN:VCALENDAR
VERSION:2.0
PRODID:-//UFR Lettres et Philosophie - UBE Dijon - ECPv5.9.0//NONSGML v1.0//EN
CALSCALE:GREGORIAN
METHOD:PUBLISH
X-WR-CALNAME:UFR Lettres et Philosophie - UBE Dijon
X-ORIGINAL-URL:https://ufr-lettres-philosophie.ube.fr
X-WR-CALDESC:évènements pour UFR Lettres et Philosophie - UBE Dijon
BEGIN:VTIMEZONE
TZID:UTC
BEGIN:STANDARD
TZOFFSETFROM:+0000
TZOFFSETTO:+0000
TZNAME:UTC
DTSTART:20200101T000000
END:STANDARD
END:VTIMEZONE
BEGIN:VEVENT
DTSTART;VALUE=DATE:20200309
DTEND;VALUE=DATE:20200318
DTSTAMP:20260423T151628
CREATED:20200217T153815Z
LAST-MODIFIED:20230202T153329Z
UID:2750-1583712000-1584489599@ufr-lettres-philosophie.ube.fr
SUMMARY:Hôpital des Nounours 2020
DESCRIPTION:Les 9\, 10 et 16\, 17 mars 2020\, l’UFR des Sciences de Santé accueille l’Hôpital des Nounours. \nL’Hôpital des Nounours est une action portée conjointement par les étudiants de la CEMD (Corporation des Étudiants en Médecine de Dijon) et de l’ABEP (Association Bourguignonne des Étudiants de Pharmacie). L’objectif est de faire découvrir aux enfants de manière ludique et pédagogique le monde hospitalier.
URL:https://ufr-lettres-philosophie.ube.fr/agenda/hopital-des-nounours-2020
LOCATION:Bâtiment médecine / pharmacie – Dijon\, Bâtiment médecine / pharmacie - Dijon
CATEGORIES:Vie des campus
END:VEVENT
END:VCALENDAR