BEGIN:VCALENDAR
VERSION:2.0
PRODID:-//UFR Lettres et Philosophie - UBE Dijon - ECPv5.9.0//NONSGML v1.0//EN
CALSCALE:GREGORIAN
METHOD:PUBLISH
X-WR-CALNAME:UFR Lettres et Philosophie - UBE Dijon
X-ORIGINAL-URL:https://ufr-lettres-philosophie.ube.fr
X-WR-CALDESC:évènements pour UFR Lettres et Philosophie - UBE Dijon
BEGIN:VTIMEZONE
TZID:Europe/Paris
BEGIN:DAYLIGHT
TZOFFSETFROM:+0100
TZOFFSETTO:+0200
TZNAME:CEST
DTSTART:20240331T010000
END:DAYLIGHT
BEGIN:STANDARD
TZOFFSETFROM:+0200
TZOFFSETTO:+0100
TZNAME:CET
DTSTART:20241027T010000
END:STANDARD
END:VTIMEZONE
BEGIN:VEVENT
DTSTART;TZID=Europe/Paris:20240316T200000
DTEND;TZID=Europe/Paris:20240316T210000
DTSTAMP:20260425T195325
CREATED:20240313T150940Z
LAST-MODIFIED:20250702T150934Z
UID:13625-1710619200-1710622800@ufr-lettres-philosophie.ube.fr
SUMMARY:Jeux chorégraphiques - Festival Art Danse
DESCRIPTION:Les jeux chorégraphiques sont un dispositif spectaculaire\, pédagogique et réflexif qui répond à un impératif ludique : risquer de s’entendre parler de danse. Dans ces jeux\, librement inspirés de ceux de l’OuLiPo\, des « expert·es » de la danse invité·es spécialement ainsi que le public présent sont mis au défi d’identifier un style\, une esthétique\, un auteur\, à partir d’extraits dansés\, écrits ou inventés pour l’occasion. L’enjeu n’est pas tant de « tomber juste » que de créer un espace commun pour faire entendre comment chacun regarde et parle de la <a href="http://danse. <br" target="_blank" title="danse. danse. <br /> Arrivez-vous facilement à parler de la danse ? Nous non plus..
URL:https://ufr-lettres-philosophie.ube.fr/agenda/jeux-choregraphiques-festival-art-danse
LOCATION:atheneum\, centre culturel de l’université de Bourgogne\, atheneum\, centre culturel de l'université de Bourgogne
CATEGORIES:Vie des campus
END:VEVENT
END:VCALENDAR