BEGIN:VCALENDAR
VERSION:2.0
PRODID:-//UFR Lettres et Philosophie - UBE Dijon - ECPv5.9.0//NONSGML v1.0//EN
CALSCALE:GREGORIAN
METHOD:PUBLISH
X-WR-CALNAME:UFR Lettres et Philosophie - UBE Dijon
X-ORIGINAL-URL:https://ufr-lettres-philosophie.ube.fr
X-WR-CALDESC:évènements pour UFR Lettres et Philosophie - UBE Dijon
BEGIN:VTIMEZONE
TZID:Europe/Paris
BEGIN:DAYLIGHT
TZOFFSETFROM:+0100
TZOFFSETTO:+0200
TZNAME:CEST
DTSTART:20210328T010000
END:DAYLIGHT
BEGIN:STANDARD
TZOFFSETFROM:+0200
TZOFFSETTO:+0100
TZNAME:CET
DTSTART:20211031T010000
END:STANDARD
END:VTIMEZONE
BEGIN:VEVENT
DTSTART;TZID=Europe/Paris:20211125T090000
DTEND;TZID=Europe/Paris:20211125T170000
DTSTAMP:20260423T004250
CREATED:20211018T153215Z
LAST-MODIFIED:20230202T153054Z
UID:6845-1637830800-1637859600@ufr-lettres-philosophie.ube.fr
SUMMARY:Journée d'étude - La recherche scientifique au quotidien\, patrimoine de demain ?
DESCRIPTION:Journée d’étude – La recherche scientifique au quotidien\, patrimoine de demain ? \nLes techniques ne cessent d’évoluer entraînant inéluctablement l’obsolescence d’un grand nombre d’instruments scientifiques. Afin de comprendre ces évolutions\, garder ces objets témoins de la recherche et des techniques apparaît comme nécessaire. Dans le cadre de l’exposition POP – Prototype Objet Particulier\, la mission nationale PATSTEC initie avec cette journée un cycle de rencontres sur le patrimoine scientifique contemporain.  \nProgramme détaillé des intervenants à venir (à retrouver sur le site de l’atheneum) \nEn lien avec l’exposition POP – Prototype Objet Particulier \n \n  \n  \n  \n  \n  \n  \n  \n  \n  \n  \n  \nUne collaboration entre la mission nationale PATSTEC de la PICST au CNAM et de l’université de Bourgogne. Crédit photo : Vincent Arbelet
URL:https://ufr-lettres-philosophie.ube.fr/agenda/journee-detude-la-recherche-scientifique-au-quotidien-patrimoine-de-demain
LOCATION:atheneum\, centre culturel de l’université de Bourgogne\, atheneum\, centre culturel de l'université de Bourgogne
CATEGORIES:Vie des campus
END:VEVENT
END:VCALENDAR