BEGIN:VCALENDAR
VERSION:2.0
PRODID:-//UFR Lettres et Philosophie - UBE Dijon - ECPv5.9.0//NONSGML v1.0//EN
CALSCALE:GREGORIAN
METHOD:PUBLISH
X-WR-CALNAME:UFR Lettres et Philosophie - UBE Dijon
X-ORIGINAL-URL:https://ufr-lettres-philosophie.ube.fr
X-WR-CALDESC:évènements pour UFR Lettres et Philosophie - UBE Dijon
BEGIN:VTIMEZONE
TZID:UTC
BEGIN:STANDARD
TZOFFSETFROM:+0000
TZOFFSETTO:+0000
TZNAME:UTC
DTSTART:20220101T000000
END:STANDARD
END:VTIMEZONE
BEGIN:VEVENT
DTSTART;VALUE=DATE:20220205
DTEND;VALUE=DATE:20220206
DTSTAMP:20260423T224613
CREATED:20220113T153211Z
LAST-MODIFIED:20230202T153057Z
UID:7769-1644019200-1644105599@ufr-lettres-philosophie.ube.fr
SUMMARY:JPO Dijon\, Auxerre et Chalon-sur-Saône
DESCRIPTION:Samedi 5 février 2022 : \n\nDijon (INSPE/MEEF)\nAuxerre (IUT\, Sciences et Techniques\, ISAT\, INSPE/MEEF)\nChalon-sur-Saône (IUT\, INSPE/MEEF)\n\nTout sur la JPO : https://lyceens.u-bourgogne.fr/tout-sur-la-jpo/
URL:https://ufr-lettres-philosophie.ube.fr/agenda/jpo-dijon-auxerre-et-chalon-sur-saone
CATEGORIES:Vie des campus
END:VEVENT
END:VCALENDAR