BEGIN:VCALENDAR
VERSION:2.0
PRODID:-//UFR Lettres et Philosophie - UBE Dijon - ECPv5.9.0//NONSGML v1.0//EN
CALSCALE:GREGORIAN
METHOD:PUBLISH
X-WR-CALNAME:UFR Lettres et Philosophie - UBE Dijon
X-ORIGINAL-URL:https://ufr-lettres-philosophie.ube.fr
X-WR-CALDESC:évènements pour UFR Lettres et Philosophie - UBE Dijon
BEGIN:VTIMEZONE
TZID:Europe/Paris
BEGIN:DAYLIGHT
TZOFFSETFROM:+0100
TZOFFSETTO:+0200
TZNAME:CEST
DTSTART:20210328T010000
END:DAYLIGHT
BEGIN:STANDARD
TZOFFSETFROM:+0200
TZOFFSETTO:+0100
TZNAME:CET
DTSTART:20211031T010000
END:STANDARD
END:VTIMEZONE
BEGIN:VEVENT
DTSTART;TZID=Europe/Paris:20211125T093000
DTEND;TZID=Europe/Paris:20211126T173000
DTSTAMP:20260423T020132
CREATED:20211117T153605Z
LAST-MODIFIED:20230202T153452Z
UID:7099-1637832600-1637947800@ufr-lettres-philosophie.ube.fr
SUMMARY:Le consentement dans les espaces du soin\, de l’intimité et de l’affectivité
DESCRIPTION: Les 25 et 26 novembre prochains le LIR3S propose un colloque intitulé  » Le consentement dans les espaces du soin de l’intimité et de l’affectivité ». \nCelui-ci est organisé par messieurs Georges Charbonneau (Université Paris 7\, Denis Diderot) et Jean-Philippe Pierron (LIR3S\, UMR 7366 CNRS-uB) en partenariat avec le département de philosophie de l’uB\, la Chaire Valeurs du soin\, la Revue le Cercle herméneutique et l’Espace Ethique de Bourgogne Franche Comté\, avec le soutien du CRPMS (Université Paris Diderot) et l’École Française de Daseinsanalyse (Archives Husserl\, ENS\, Paris rue d’Ulm) \nCe colloque est accessible à tous sur inscription préalable.
URL:https://ufr-lettres-philosophie.ube.fr/agenda/le-consentement-dans-les-espaces-du-soin-de-lintimite-et-de-laffectivite
LOCATION:Amphithéâtre de la MSH de Dijon\, Amphithéâtre de la MSH de Dijon
CATEGORIES:Lettres et Philosophie
END:VEVENT
END:VCALENDAR