BEGIN:VCALENDAR
VERSION:2.0
PRODID:-//UFR Lettres et Philosophie - UBE Dijon - ECPv5.9.0//NONSGML v1.0//EN
CALSCALE:GREGORIAN
METHOD:PUBLISH
X-WR-CALNAME:UFR Lettres et Philosophie - UBE Dijon
X-ORIGINAL-URL:https://ufr-lettres-philosophie.ube.fr
X-WR-CALDESC:évènements pour UFR Lettres et Philosophie - UBE Dijon
BEGIN:VTIMEZONE
TZID:Europe/Paris
BEGIN:DAYLIGHT
TZOFFSETFROM:+0100
TZOFFSETTO:+0200
TZNAME:CEST
DTSTART:20210328T010000
END:DAYLIGHT
BEGIN:STANDARD
TZOFFSETFROM:+0200
TZOFFSETTO:+0100
TZNAME:CET
DTSTART:20211031T010000
END:STANDARD
END:VTIMEZONE
BEGIN:VEVENT
DTSTART;TZID=Europe/Paris:20211203T180000
DTEND;TZID=Europe/Paris:20211203T190000
DTSTAMP:20260423T031240
CREATED:20211120T153251Z
LAST-MODIFIED:20230202T153054Z
UID:7118-1638554400-1638558000@ufr-lettres-philosophie.ube.fr
SUMMARY:L'équilibre de la bicyclette
DESCRIPTION:Sarath Amarasingam vous propose de découvrir une étape de travail de sa création L’équilibre de la bicyclette\, pour marquer la fin de sa résidence à l’atheneum.\n \nAvec un trio de danseurs singulier et complémentaire\, accompagné de deux musiciens aux influences éloignées\, le troisième épisode de la série Terre Sèche propose de creuser l’idée de « un est tout\, tout est un ». Dans une quête artistique et créative\, le personnage Ganesh cherche désormais à trouver une unité\, une cohérence dans sa double culture . \nGratuit sur inscriptionDans le cadre du festival Les Nuits d’Orient organisé par la ville de DIjon\n \n \n 
URL:https://ufr-lettres-philosophie.ube.fr/agenda/lequilibre-de-la-bicyclette
LOCATION:atheneum\, centre culturel de l’université de Bourgogne\, atheneum\, centre culturel de l'université de Bourgogne
CATEGORIES:Vie des campus
END:VEVENT
END:VCALENDAR