BEGIN:VCALENDAR
VERSION:2.0
PRODID:-//UFR Lettres et Philosophie - UBE Dijon - ECPv5.9.0//NONSGML v1.0//EN
CALSCALE:GREGORIAN
METHOD:PUBLISH
X-WR-CALNAME:UFR Lettres et Philosophie - UBE Dijon
X-ORIGINAL-URL:https://ufr-lettres-philosophie.ube.fr
X-WR-CALDESC:évènements pour UFR Lettres et Philosophie - UBE Dijon
BEGIN:VTIMEZONE
TZID:Europe/Paris
BEGIN:DAYLIGHT
TZOFFSETFROM:+0100
TZOFFSETTO:+0200
TZNAME:CEST
DTSTART:20220327T010000
END:DAYLIGHT
BEGIN:STANDARD
TZOFFSETFROM:+0200
TZOFFSETTO:+0100
TZNAME:CET
DTSTART:20221030T010000
END:STANDARD
END:VTIMEZONE
BEGIN:VEVENT
DTSTART;TZID=Europe/Paris:20220303T180000
DTEND;TZID=Europe/Paris:20220303T190000
DTSTAMP:20260424T074119
CREATED:20220204T153155Z
LAST-MODIFIED:20230202T153057Z
UID:8038-1646330400-1646334000@ufr-lettres-philosophie.ube.fr
SUMMARY:Lignes invisibles
DESCRIPTION:Lignes Invisibles\nLignes invisibles est un espace de discussion entre le lieu d’exposition et les pièces de tissages\, les tissus cousus\, les dessins et les sculptures produits à cette occasion. Les lignes – celles des fils entrecroisés qui forment le tissage\, ou celles tracées\, dessinées et libres – répondent aux lignes de l’espace\, aux surfaces des murs et aux ouvertures des fenêtres. Les lignes invisibles sont autant celles qui se fondent dans la surface qu’elles ont créée que celles qui s’en détachent et se poursuivent sans laisser de traces. Au spectateur de les faire siennes. \nSur une proposition de Valérie Dupont\, Maîtresse de conférence en histoire de l’art contemporain à l’université de Bourgogne \nBiographie\nNée en 1994 en France\, vit et travaille à Marsannay-la-Côte. \nAprès une année à étudier la danse à l’Université Lille III\, Mathilde Besson part en Belgique où elle suit un cursus à l’École de Recherche Graphique de Bruxelles\, obtenant une licence puis un master en pratique de l’art. En septembre 2020\, elle suit une formation à l’Atelier du Haut Anjou afin d’approfon-dir la technique du tissage. Elle participe à plusieurs exposition de groupe dont Touché ! au Beirut Art Center en avril 2019 et Salle Commune à l’Atelier B\, Marsannay-la-Côte en septembre 2019 \nInfos pratiques \nEntrée libreExposition du jeudi 03/03 au vendredi 20/05 Vernissage le jeudi 03/03 à 18hRencontre avec l’artiste : mardi 15/03 à 18h et 12/04 à 12h30 (1h) sur inscription \n \nCrédit : Mathilde Besson
URL:https://ufr-lettres-philosophie.ube.fr/agenda/lignes-invisibles-2
LOCATION:atheneum\, centre culturel de l’université de Bourgogne\, atheneum\, centre culturel de l'université de Bourgogne
CATEGORIES:Vie des campus
END:VEVENT
END:VCALENDAR