BEGIN:VCALENDAR
VERSION:2.0
PRODID:-//UFR Lettres et Philosophie - UBE Dijon - ECPv5.9.0//NONSGML v1.0//EN
CALSCALE:GREGORIAN
METHOD:PUBLISH
X-WR-CALNAME:UFR Lettres et Philosophie - UBE Dijon
X-ORIGINAL-URL:https://ufr-lettres-philosophie.ube.fr
X-WR-CALDESC:évènements pour UFR Lettres et Philosophie - UBE Dijon
BEGIN:VTIMEZONE
TZID:Europe/Paris
BEGIN:DAYLIGHT
TZOFFSETFROM:+0100
TZOFFSETTO:+0200
TZNAME:CEST
DTSTART:20220327T010000
END:DAYLIGHT
BEGIN:STANDARD
TZOFFSETFROM:+0200
TZOFFSETTO:+0100
TZNAME:CET
DTSTART:20221030T010000
END:STANDARD
END:VTIMEZONE
BEGIN:VEVENT
DTSTART;TZID=Europe/Paris:20220303T100000
DTEND;TZID=Europe/Paris:20220520T170000
DTSTAMP:20260424T063645
CREATED:20220113T153212Z
LAST-MODIFIED:20220207T153033Z
UID:7775-1646301600-1653066000@ufr-lettres-philosophie.ube.fr
SUMMARY:Lignes invisibles
DESCRIPTION:Lignes invisibles est un espace de discussion entre le lieu d’exposition et les pièces de tissages\, les tissus cousus\, les dessins et les sculptures produits à cette occasion. Les lignes – celles des fils entrecroisés qui forment le tissage\, ou celles tracées\, dessinées et libres – répondent aux lignes de l’espace\, aux surfaces des murs et aux ouvertures des fenêtres. Les lignes invisibles sont autant celles qui se fondent dans la surface qu’elles ont créée que celles qui s’en détachent et se poursuivent sans laisser de traces. Au spectateur de les faire siennes. \nUne exposition de Mathilde Besson sur une proposition de Valérie Dupont\, Maîtresse de conférence en histoire de l’art contemporain à l’université de Bourgogne \nExposition du jeudi 3 mars au vendredi 20 maiOuverte du lundi au jeudi de 17h à 22h et le vendredi jusque 17hVernissage le jeudi 3 mars à 18hRencontre avec l’artiste les mardis 15 mars à 18h et 12 avril à 18 \n 
URL:https://ufr-lettres-philosophie.ube.fr/agenda/lignes-invisibles
LOCATION:atheneum\, centre culturel de l’université de Bourgogne\, atheneum\, centre culturel de l'université de Bourgogne
CATEGORIES:Vie des campus
END:VEVENT
END:VCALENDAR