BEGIN:VCALENDAR
VERSION:2.0
PRODID:-//UFR Lettres et Philosophie - UBE Dijon - ECPv5.9.0//NONSGML v1.0//EN
CALSCALE:GREGORIAN
METHOD:PUBLISH
X-WR-CALNAME:UFR Lettres et Philosophie - UBE Dijon
X-ORIGINAL-URL:https://ufr-lettres-philosophie.ube.fr
X-WR-CALDESC:évènements pour UFR Lettres et Philosophie - UBE Dijon
BEGIN:VTIMEZONE
TZID:Europe/Paris
BEGIN:DAYLIGHT
TZOFFSETFROM:+0100
TZOFFSETTO:+0200
TZNAME:CEST
DTSTART:20240331T010000
END:DAYLIGHT
BEGIN:STANDARD
TZOFFSETFROM:+0200
TZOFFSETTO:+0100
TZNAME:CET
DTSTART:20241027T010000
END:STANDARD
END:VTIMEZONE
BEGIN:VEVENT
DTSTART;TZID=Europe/Paris:20240318T180000
DTEND;TZID=Europe/Paris:20240318T223000
DTSTAMP:20260425T172629
CREATED:20240313T150940Z
LAST-MODIFIED:20250702T150934Z
UID:13626-1710784800-1710801000@ufr-lettres-philosophie.ube.fr
SUMMARY:Lundi ciné
DESCRIPTION:Tous les mois\, l’atheneum ouvre sa salle de spectacle pour des soirées cinéma ! Cette fois-ci on se penche sur la vie d’étudiant. À quoi ressemble la vie d’un ado qui a du mal à s’intégrer au lycée ? Comment peut-on passer à côté du fait d’être un génie des maths ? C’est ce que nous montre ces deux films : \n> À 18h Le monde de Charlie de Stephen Chbosky (2012) \n> À 20h Will Hunting de Gus Van Sant (1997) \nCes soirées\, c’est l’occasion de (re)voir des pépites cinématographiques sur grand écran\, en tout confort dans la salle de spectacle. Et comme pour une vraie séance\, les fournées de popcorn sont prévues. Le gros plus ? Les séances sont gratuites et en <a href="http://VOSTFR. \n » target= »_blank » title= »VOSTFR. \n« >VOSTFR.
URL:https://ufr-lettres-philosophie.ube.fr/agenda/lundi-cine
LOCATION:atheneum\, centre culturel de l’université de Bourgogne\, atheneum\, centre culturel de l'université de Bourgogne
CATEGORIES:Vie des campus
END:VEVENT
END:VCALENDAR