BEGIN:VCALENDAR
VERSION:2.0
PRODID:-//UFR Lettres et Philosophie - UBE Dijon - ECPv5.9.0//NONSGML v1.0//EN
CALSCALE:GREGORIAN
METHOD:PUBLISH
X-WR-CALNAME:UFR Lettres et Philosophie - UBE Dijon
X-ORIGINAL-URL:https://ufr-lettres-philosophie.ube.fr
X-WR-CALDESC:évènements pour UFR Lettres et Philosophie - UBE Dijon
BEGIN:VTIMEZONE
TZID:Europe/Paris
BEGIN:DAYLIGHT
TZOFFSETFROM:+0100
TZOFFSETTO:+0200
TZNAME:CEST
DTSTART:20190331T010000
END:DAYLIGHT
BEGIN:STANDARD
TZOFFSETFROM:+0200
TZOFFSETTO:+0100
TZNAME:CET
DTSTART:20191027T010000
END:STANDARD
END:VTIMEZONE
BEGIN:VEVENT
DTSTART;TZID=Europe/Paris:20191207T150000
DTEND;TZID=Europe/Paris:20191207T150000
DTSTAMP:20260424T223415
CREATED:20200117T153236Z
LAST-MODIFIED:20230202T153326Z
UID:2557-1575730800-1575730800@ufr-lettres-philosophie.ube.fr
SUMMARY:ONE MINUTE/ONE SHOT - Atelier de danse contemporaine
DESCRIPTION:Atelier de danse contemporaine avec Sarath Amarasingam \n\nSamedi 7 décembre à 15h\nDimanche 8 décembre à 10h et 14h\n\nRéservation indispensable – Gratuit Durée : 9h \nPlus d’infos
URL:https://ufr-lettres-philosophie.ube.fr/agenda/one-minute-one-shot-atelier-de-danse-contemporaine
LOCATION:atheneum\, centre culturel de l’université de Bourgogne\, atheneum\, centre culturel de l'université de Bourgogne
CATEGORIES:Vie des campus
END:VEVENT
END:VCALENDAR