BEGIN:VCALENDAR
VERSION:2.0
PRODID:-//UFR Lettres et Philosophie - UBE Dijon - ECPv5.9.0//NONSGML v1.0//EN
CALSCALE:GREGORIAN
METHOD:PUBLISH
X-WR-CALNAME:UFR Lettres et Philosophie - UBE Dijon
X-ORIGINAL-URL:https://ufr-lettres-philosophie.ube.fr
X-WR-CALDESC:évènements pour UFR Lettres et Philosophie - UBE Dijon
BEGIN:VTIMEZONE
TZID:Europe/Paris
BEGIN:DAYLIGHT
TZOFFSETFROM:+0100
TZOFFSETTO:+0200
TZNAME:CEST
DTSTART:20210328T010000
END:DAYLIGHT
BEGIN:STANDARD
TZOFFSETFROM:+0200
TZOFFSETTO:+0100
TZNAME:CET
DTSTART:20211031T010000
END:STANDARD
END:VTIMEZONE
BEGIN:VEVENT
DTSTART;TZID=Europe/Paris:20211207T160000
DTEND;TZID=Europe/Paris:20211207T180000
DTSTAMP:20260423T070021
CREATED:20211206T154652Z
LAST-MODIFIED:20230202T153055Z
UID:7380-1638892800-1638900000@ufr-lettres-philosophie.ube.fr
SUMMARY:Projection-Débat avec le CIDFF Côte d'Or
DESCRIPTION:L’université de Bourgogne et l’UFR des Sciences de Santé invite le Centre d’Information des Droits des Femmes de Côte d’Or pour une Projection-Débat autour du court métrage « Majorité opprimée » d’Éléonore Pourriat .Cette soirée donnera l’occasion au CIDFF21 de présenter ses actions et outils. Un travail en ateliers autour d’expositions\, de campagnes et autres supports de communication vous sera proposé.Cet événement ouvert à toute la communauté universitaire\, dans la limite des places disponibles.
URL:https://ufr-lettres-philosophie.ube.fr/agenda/projection-debat-avec-le-cidff-cote-dor
LOCATION:Bâtiment médecine / pharmacie – Dijon\, Bâtiment médecine / pharmacie - Dijon
CATEGORIES:Vie des campus
END:VEVENT
END:VCALENDAR