BEGIN:VCALENDAR
VERSION:2.0
PRODID:-//UFR Lettres et Philosophie - UBE Dijon - ECPv5.9.0//NONSGML v1.0//EN
CALSCALE:GREGORIAN
METHOD:PUBLISH
X-WR-CALNAME:UFR Lettres et Philosophie - UBE Dijon
X-ORIGINAL-URL:https://ufr-lettres-philosophie.ube.fr
X-WR-CALDESC:évènements pour UFR Lettres et Philosophie - UBE Dijon
BEGIN:VTIMEZONE
TZID:Europe/Paris
BEGIN:DAYLIGHT
TZOFFSETFROM:+0100
TZOFFSETTO:+0200
TZNAME:CEST
DTSTART:20200329T010000
END:DAYLIGHT
BEGIN:STANDARD
TZOFFSETFROM:+0200
TZOFFSETTO:+0100
TZNAME:CET
DTSTART:20201025T010000
END:STANDARD
END:VTIMEZONE
BEGIN:VEVENT
DTSTART;TZID=Europe/Paris:20200121T124000
DTEND;TZID=Europe/Paris:20200121T134000
DTSTAMP:20260424T144825
CREATED:20200117T153237Z
LAST-MODIFIED:20230202T153327Z
UID:2568-1579610400-1579614000@ufr-lettres-philosophie.ube.fr
SUMMARY:Rendez-vous culturel de Mâcon - Concert
DESCRIPTION:Quintette Piazzolla \nViolon : Christine KrypiecAccordéon : Thierry BouchetGuitare : Salvatore GrécoContrebasse : Jean-Noël BériatPiano : Jean-François Basteau \n9\, rue de Flacé
URL:https://ufr-lettres-philosophie.ube.fr/agenda/rendez-vous-culturel-de-macon-concert
LOCATION:INSPE Mâcon\, INSPE Mâcon
CATEGORIES:Vie des campus
END:VEVENT
END:VCALENDAR