BEGIN:VCALENDAR
VERSION:2.0
PRODID:-//UFR Lettres et Philosophie - UBE Dijon - ECPv5.9.0//NONSGML v1.0//EN
CALSCALE:GREGORIAN
METHOD:PUBLISH
X-WR-CALNAME:UFR Lettres et Philosophie - UBE Dijon
X-ORIGINAL-URL:https://ufr-lettres-philosophie.ube.fr
X-WR-CALDESC:évènements pour UFR Lettres et Philosophie - UBE Dijon
BEGIN:VTIMEZONE
TZID:Europe/Paris
BEGIN:DAYLIGHT
TZOFFSETFROM:+0100
TZOFFSETTO:+0200
TZNAME:CEST
DTSTART:20200329T010000
END:DAYLIGHT
BEGIN:STANDARD
TZOFFSETFROM:+0200
TZOFFSETTO:+0100
TZNAME:CET
DTSTART:20201025T010000
END:STANDARD
END:VTIMEZONE
BEGIN:VEVENT
DTSTART;TZID=Europe/Paris:20200914T194500
DTEND;TZID=Europe/Paris:20200914T220000
DTSTAMP:20260422T104007
CREATED:20200910T153451Z
LAST-MODIFIED:20230202T153332Z
UID:3660-1600112700-1600120800@ufr-lettres-philosophie.ube.fr
SUMMARY:Rentrée de la chorale universitaire de Bourgogne
DESCRIPTION:La chorale universitaire de Bourgogne fait sa rentrée le 14 septembre à 19h45 en salle Multiplex. \nLes répétitions ont lieu tous les lundis de 19h45 à 22h.
URL:https://ufr-lettres-philosophie.ube.fr/agenda/rentree-de-la-chorale-universitaire-de-bourgogne
LOCATION:Salle Multiplex\, Salle Multiplex
CATEGORIES:Vie des campus
END:VEVENT
END:VCALENDAR