BEGIN:VCALENDAR
VERSION:2.0
PRODID:-//UFR Lettres et Philosophie - UBE Dijon - ECPv5.9.0//NONSGML v1.0//EN
CALSCALE:GREGORIAN
METHOD:PUBLISH
X-WR-CALNAME:UFR Lettres et Philosophie - UBE Dijon
X-ORIGINAL-URL:https://ufr-lettres-philosophie.ube.fr
X-WR-CALDESC:évènements pour UFR Lettres et Philosophie - UBE Dijon
BEGIN:VTIMEZONE
TZID:Europe/Paris
BEGIN:DAYLIGHT
TZOFFSETFROM:+0100
TZOFFSETTO:+0200
TZNAME:CEST
DTSTART:20240331T010000
END:DAYLIGHT
BEGIN:STANDARD
TZOFFSETFROM:+0200
TZOFFSETTO:+0100
TZNAME:CET
DTSTART:20241027T010000
END:STANDARD
END:VTIMEZONE
BEGIN:VEVENT
DTSTART;TZID=Europe/Paris:20240325T183000
DTEND;TZID=Europe/Paris:20240325T200000
DTSTAMP:20260423T110816
CREATED:20240313T150941Z
LAST-MODIFIED:20250702T150934Z
UID:13630-1711391400-1711396800@ufr-lettres-philosophie.ube.fr
SUMMARY:Répétition Zacrob'artistes
DESCRIPTION:Venez voir en fin de journée les répétitions des Zacrob’artistes\, une association étudiante de l’université qui mélange la danse et le cirque. Un avant-goût du festival Ose !
URL:https://ufr-lettres-philosophie.ube.fr/agenda/repetition-zacrobartistes
LOCATION:atheneum\, centre culturel de l’université de Bourgogne\, atheneum\, centre culturel de l'université de Bourgogne
CATEGORIES:Vie des campus
END:VEVENT
END:VCALENDAR