BEGIN:VCALENDAR
VERSION:2.0
PRODID:-//UFR Lettres et Philosophie - UBE Dijon - ECPv5.9.0//NONSGML v1.0//EN
CALSCALE:GREGORIAN
METHOD:PUBLISH
X-WR-CALNAME:UFR Lettres et Philosophie - UBE Dijon
X-ORIGINAL-URL:https://ufr-lettres-philosophie.ube.fr
X-WR-CALDESC:évènements pour UFR Lettres et Philosophie - UBE Dijon
BEGIN:VTIMEZONE
TZID:UTC
BEGIN:STANDARD
TZOFFSETFROM:+0000
TZOFFSETTO:+0000
TZNAME:UTC
DTSTART:20210101T000000
END:STANDARD
END:VTIMEZONE
BEGIN:VEVENT
DTSTART;VALUE=DATE:20211122
DTEND;VALUE=DATE:20211126
DTSTAMP:20260422T220901
CREATED:20211112T153242Z
LAST-MODIFIED:20230202T153054Z
UID:7026-1637539200-1637884799@ufr-lettres-philosophie.ube.fr
SUMMARY:Semaine européenne de réduction des déchets
DESCRIPTION:Programme : \n\nDu 22/11 au 03/12 : Collecte de jouets (0-15ans) au profit des Restos du Cœur\nDu 22 au 26/11 : Repas locaux et /ou bios aux Resto’U\nDu 23 au 25/11 : Exposition « 50 ans Greenpeace » devant Droit/lettres côté esplanade\n23/11 de 11h à 14h30 : Gratiféria (brocante gratuite : vêtements chauds et vaisselle) pour les étudiants. Résidence Mansart\, salle Chalon. Accueil avec un chocolat chaud et des viennoiseries.\n24/11 de 11h30 à 14h: Atelier Tawashis. Hall bâtiment Mirande\n25/11 de 12h15 à 13h45: Atelier création de produits d’entretien. MDE\, place limitée inscription obligatoire\n\nPlus d’informations Facebook campus durable et Citoyen – université de Bourgogne
URL:https://ufr-lettres-philosophie.ube.fr/agenda/semaine-europeenne-de-reduction-des-dechets
CATEGORIES:Vie des campus
END:VEVENT
END:VCALENDAR