BEGIN:VCALENDAR
VERSION:2.0
PRODID:-//UFR Lettres et Philosophie - UBE Dijon - ECPv5.9.0//NONSGML v1.0//EN
CALSCALE:GREGORIAN
METHOD:PUBLISH
X-WR-CALNAME:UFR Lettres et Philosophie - UBE Dijon
X-ORIGINAL-URL:https://ufr-lettres-philosophie.ube.fr
X-WR-CALDESC:évènements pour UFR Lettres et Philosophie - UBE Dijon
BEGIN:VTIMEZONE
TZID:Europe/Paris
BEGIN:DAYLIGHT
TZOFFSETFROM:+0100
TZOFFSETTO:+0200
TZNAME:CEST
DTSTART:20240331T010000
END:DAYLIGHT
BEGIN:STANDARD
TZOFFSETFROM:+0200
TZOFFSETTO:+0100
TZNAME:CET
DTSTART:20241027T010000
END:STANDARD
END:VTIMEZONE
BEGIN:VEVENT
DTSTART;TZID=Europe/Paris:20240502T210000
DTEND;TZID=Europe/Paris:20240502T210000
DTSTAMP:20260422T185240
CREATED:20240409T150952Z
LAST-MODIFIED:20250702T150935Z
UID:13780-1714683600-1714683600@ufr-lettres-philosophie.ube.fr
SUMMARY:Sessions campus à l'Atheneum
DESCRIPTION:Après 14 ans de résidence à la Péniche Cancale\, Radio Dijon Campus déplace son concept. Le principe reste le même : écouter\, scruter\, observer la scène locale en musique actuelles et offrir une chance\, une fois par mois\, à un projet de monter sur scène dans des conditions d’accueil pro. Une émission\, en direct et en public\, qui alterne entre live et <a href="http://interviews.<br" target="_blank" title="interviews.interviews.<br />Pour cette session\, nous accueillons le groupe Dirishu6. Ils ont gagné le tremplin de musique Novosonic en 2019\, c’est donc l’occasion de les revoir et suivre leur <a href="http://parcours. \n » target= »_blank » title= »parcours. \n« >parcours.
URL:https://ufr-lettres-philosophie.ube.fr/agenda/sessions-campus-a-latheneum
LOCATION:atheneum\, centre culturel de l’université de Bourgogne\, atheneum\, centre culturel de l'université de Bourgogne
CATEGORIES:Vie des campus
END:VEVENT
END:VCALENDAR