BEGIN:VCALENDAR
VERSION:2.0
PRODID:-//UFR Lettres et Philosophie - UBE Dijon - ECPv5.9.0//NONSGML v1.0//EN
CALSCALE:GREGORIAN
METHOD:PUBLISH
X-WR-CALNAME:UFR Lettres et Philosophie - UBE Dijon
X-ORIGINAL-URL:https://ufr-lettres-philosophie.ube.fr
X-WR-CALDESC:évènements pour UFR Lettres et Philosophie - UBE Dijon
BEGIN:VTIMEZONE
TZID:Europe/Paris
BEGIN:DAYLIGHT
TZOFFSETFROM:+0100
TZOFFSETTO:+0200
TZNAME:CEST
DTSTART:20240331T010000
END:DAYLIGHT
BEGIN:STANDARD
TZOFFSETFROM:+0200
TZOFFSETTO:+0100
TZNAME:CET
DTSTART:20241027T010000
END:STANDARD
END:VTIMEZONE
BEGIN:VEVENT
DTSTART;TZID=Europe/Paris:20240318T180000
DTEND;TZID=Europe/Paris:20240318T223000
DTSTAMP:20260425T184525
CREATED:20240313T150940Z
LAST-MODIFIED:20250702T150934Z
UID:13627-1710784800-1710801000@ufr-lettres-philosophie.ube.fr
SUMMARY:Soirée jeux de rôle
DESCRIPTION:Tous les mois\, l’association Best propose un rendez-vous convivial autour du jeu de rôle. Le temps d’une soirée\, en petit groupe\, plongez dans un univers fantastique armés de vos feuilles de personnages et vos dés.
URL:https://ufr-lettres-philosophie.ube.fr/agenda/soiree-jeux-de-role-2
LOCATION:atheneum\, centre culturel de l’université de Bourgogne\, atheneum\, centre culturel de l'université de Bourgogne
CATEGORIES:Vie des campus
END:VEVENT
END:VCALENDAR