BEGIN:VCALENDAR
VERSION:2.0
PRODID:-//UFR Lettres et Philosophie - UBE Dijon - ECPv5.9.0//NONSGML v1.0//EN
CALSCALE:GREGORIAN
METHOD:PUBLISH
X-WR-CALNAME:UFR Lettres et Philosophie - UBE Dijon
X-ORIGINAL-URL:https://ufr-lettres-philosophie.ube.fr
X-WR-CALDESC:évènements pour UFR Lettres et Philosophie - UBE Dijon
BEGIN:VTIMEZONE
TZID:Europe/Paris
BEGIN:DAYLIGHT
TZOFFSETFROM:+0100
TZOFFSETTO:+0200
TZNAME:CEST
DTSTART:20210328T010000
END:DAYLIGHT
BEGIN:STANDARD
TZOFFSETFROM:+0200
TZOFFSETTO:+0100
TZNAME:CET
DTSTART:20211031T010000
END:STANDARD
END:VTIMEZONE
BEGIN:VEVENT
DTSTART;TZID=Europe/Paris:20211207T200000
DTEND;TZID=Europe/Paris:20211207T211500
DTSTAMP:20260423T081933
CREATED:20211120T153251Z
LAST-MODIFIED:20230202T153055Z
UID:7120-1638907200-1638911700@ufr-lettres-philosophie.ube.fr
SUMMARY:Spectacle Croire aux fauves
DESCRIPTION:Un spectacle entre théâtre et musique à partir de Croire aux fauves de l’anthropologue Nastassja Martin qui témoigne de sa rencontre avec un ours. Une création de la Cie Ume théâtre. \nLe récit de Croire aux fauves débute au milieu des volcans enneigés du Kamtchatka\, quelques heures à peine après la rencontre entre Nastassja Martin et l’ours. D’emblée le moment crucial de l’accident nous échappe. C’est que le livre ne vise pas tant à raconter l’ «événement» en tant que tel mais bien davantage à décrire tous les fils qui se nouent dans cette rencontre\, tous les mondes qui s’y entrechoquent. Malgré la densité des questionnements qu’elle distille au fur et à mesure de son histoire\, Nastassja Martin commence par abandonner son statut d’anthropologue. C’est d’abord une femme qui se donne à lire et qui nous livre une histoire de renaissance\, de basculement\, d’hybridation. \nDe 5\,5 à 15€ Infos et réservation : atheneum.u-bourgogne.fr \nDans le cadre du colloque Tandems\, artistes et anthropologues en création
URL:https://ufr-lettres-philosophie.ube.fr/agenda/spectacle-croire-aux-fauves
LOCATION:atheneum\, centre culturel de l’université de Bourgogne\, atheneum\, centre culturel de l'université de Bourgogne
CATEGORIES:Vie des campus
END:VEVENT
END:VCALENDAR