BEGIN:VCALENDAR
VERSION:2.0
PRODID:-//UFR Lettres et Philosophie - UBE Dijon - ECPv5.9.0//NONSGML v1.0//EN
CALSCALE:GREGORIAN
METHOD:PUBLISH
X-WR-CALNAME:UFR Lettres et Philosophie - UBE Dijon
X-ORIGINAL-URL:https://ufr-lettres-philosophie.ube.fr
X-WR-CALDESC:évènements pour UFR Lettres et Philosophie - UBE Dijon
BEGIN:VTIMEZONE
TZID:Europe/Paris
BEGIN:DAYLIGHT
TZOFFSETFROM:+0100
TZOFFSETTO:+0200
TZNAME:CEST
DTSTART:20210328T010000
END:DAYLIGHT
BEGIN:STANDARD
TZOFFSETFROM:+0200
TZOFFSETTO:+0100
TZNAME:CET
DTSTART:20211031T010000
END:STANDARD
END:VTIMEZONE
BEGIN:VEVENT
DTSTART;TZID=Europe/Paris:20211124T200000
DTEND;TZID=Europe/Paris:20211124T200000
DTSTAMP:20260422T232216
CREATED:20211015T153240Z
LAST-MODIFIED:20230202T153054Z
UID:6821-1637784000-1637784000@ufr-lettres-philosophie.ube.fr
SUMMARY:Spectacle La théorie des ficelles
DESCRIPTION:La théorie des ficelles n’est ni un spectacle\, ni une conférence. Elle oscille entre la danse\, le théâtre\, la performance et se construit comme un objet scénique de science fictive. En tissant des liens entre physique\, neurosciences\, philosophie\, Etienne Fanteguzzi propose une expérience sensible du mouvement qui se déploie partout : dans le corps\, dans la scénographie et dans le regard du spectateur qui s’immerge plus en profondeur dans les méandres d’une pensée complexe et poétique. \n« Tissant des liens entre différents domaines des sciences et je propose tant un point de vue artistique sur un questionnement scientifique qu’une base scientifique à un projet de création artistique. En somme\, je croise ici le cheminement du scientifique et celui de l’artiste. Jouant avec le vrai du faux et le juste de l’erreur\, je partage des concepts scientifiques et philosophiques de manière concrète\, en impliquant le corps et donne le goût (et le plaisir) de jouer des théories avec scientifiques de manière créative. » Etienne Fanteguzzi d’Espèce de collectif \nUne séance à 10h30 est aussi programmée
URL:https://ufr-lettres-philosophie.ube.fr/agenda/spectacle-la-theorie-des-ficelles
LOCATION:atheneum\, centre culturel de l’université de Bourgogne\, atheneum\, centre culturel de l'université de Bourgogne
CATEGORIES:Vie des campus
END:VEVENT
END:VCALENDAR