BEGIN:VCALENDAR
VERSION:2.0
PRODID:-//UFR Lettres et Philosophie - UBE Dijon - ECPv5.9.0//NONSGML v1.0//EN
CALSCALE:GREGORIAN
METHOD:PUBLISH
X-WR-CALNAME:UFR Lettres et Philosophie - UBE Dijon
X-ORIGINAL-URL:https://ufr-lettres-philosophie.ube.fr
X-WR-CALDESC:évènements pour UFR Lettres et Philosophie - UBE Dijon
BEGIN:VTIMEZONE
TZID:Europe/Paris
BEGIN:DAYLIGHT
TZOFFSETFROM:+0100
TZOFFSETTO:+0200
TZNAME:CEST
DTSTART:20210328T010000
END:DAYLIGHT
BEGIN:STANDARD
TZOFFSETFROM:+0200
TZOFFSETTO:+0100
TZNAME:CET
DTSTART:20211031T010000
END:STANDARD
END:VTIMEZONE
BEGIN:VEVENT
DTSTART;TZID=Europe/Paris:20211119T200000
DTEND;TZID=Europe/Paris:20211119T204000
DTSTAMP:20260422T205345
CREATED:20211011T153217Z
LAST-MODIFIED:20230202T153054Z
UID:6779-1637352000-1637354400@ufr-lettres-philosophie.ube.fr
SUMMARY:Spectacle Système
DESCRIPTION:Comme une étude inspirée du mouvement des corps célestes\, Système établit des trajectoires\, des rotations et des attractions qui s’organisent en un cycle répétitif. Se projetant dans un élan continu\, les corps en mouvement ne cessent de se rapprocher et s’éloigner dans une ronde magnétique. La danse s’y déploie alors comme une conséquence de toutes ces énergies accumulées\, dans un geste dynamique et jubilatoire. \nUne création du chorégraphe Antoine Arbeït de la Cie Ex Novo \nA découvrir à l’atheneum le vendredi 19 novembre à 20h (40min) De 5\,5 à 10€ depuis la billetterie atheneum \n \n© Stéphane Bahic \nDistribution :Chorégraphie : Antoine ArbeitInterprétation : Lucie Gemon\, Gaspard CharonPierre Lison\, Élie TremblayMusique : NASA Voyager RecordingsLumière : Florian Laze
URL:https://ufr-lettres-philosophie.ube.fr/agenda/systeme
LOCATION:atheneum\, centre culturel de l’université de Bourgogne\, atheneum\, centre culturel de l'université de Bourgogne
CATEGORIES:Vie des campus
END:VEVENT
END:VCALENDAR