BEGIN:VCALENDAR
VERSION:2.0
PRODID:-//UFR Lettres et Philosophie - UBE Dijon - ECPv5.9.0//NONSGML v1.0//EN
CALSCALE:GREGORIAN
METHOD:PUBLISH
X-WR-CALNAME:UFR Lettres et Philosophie - UBE Dijon
X-ORIGINAL-URL:https://ufr-lettres-philosophie.ube.fr
X-WR-CALDESC:évènements pour UFR Lettres et Philosophie - UBE Dijon
BEGIN:VTIMEZONE
TZID:Europe/Paris
BEGIN:DAYLIGHT
TZOFFSETFROM:+0100
TZOFFSETTO:+0200
TZNAME:CEST
DTSTART:20240331T010000
END:DAYLIGHT
BEGIN:STANDARD
TZOFFSETFROM:+0200
TZOFFSETTO:+0100
TZNAME:CET
DTSTART:20241027T010000
END:STANDARD
END:VTIMEZONE
BEGIN:VEVENT
DTSTART;TZID=Europe/Paris:20240312T140000
DTEND;TZID=Europe/Paris:20240312T140000
DTSTAMP:20260426T011831
CREATED:20240306T150946Z
LAST-MODIFIED:20250702T150934Z
UID:13603-1710252000-1710252000@ufr-lettres-philosophie.ube.fr
SUMMARY:Table ronde "Parlons endométriose"
DESCRIPTION:Le Service de Santé Étudiante (SSE : <a href="https://ub-link.u-bourgogne.fr/me-soigner) vous » target= »_blank » title= »https://ub-link.u-bourgogne.fr/me-soigner »>https://ub-link.u-bourgogne.fr/me-soigner) vous »>https://ub-link.u-bourgogne.fr/me-soigner »>https://ub-link.u-bourgogne.fr/me-soigner) vous invite le mardi 12 mars 2024 à 14h BU Cortex pour une table ronde sur l’endométriose ! Entrée libre et gratuite ! \nAu programme : \n\nExpériences sur le vécu au quotidien par les bénévoles « patientes expertes » du Planning Familial\nNouvelles techniques de gestion de la douleur : manupuncture par le Centre antidouleur du CHU Dijon <a href="http://Bourgogne.<br" target="_blank" title="Bourgogne.Bourgogne.<br /> Efficacité sur la douleur liée à l’endométriose\, détails pratiques sur les consultations et les délais…\nInformations sur le rôle du dépistage\, diagnostic et prise en charge par la sage-femme\, les médecins\, les infirmières du <a href="http://SSE.\nApport » target= »_blank » title= »SSE.\nApport »>SSE.\nApport médical\, alternatives à la contraception par le médecin du SSE \nAccompagnement sexologique par l’infirmière sexologue du <a href="http://SSE.  \nEt » target= »_blank » title= »SSE.  \nEt »>SSE.  \nEt un goûter à partager ensemble !
URL:https://ufr-lettres-philosophie.ube.fr/agenda/table-ronde-parlons-endometriose
LOCATION:BU Le Cortex\, BU Le Cortex
CATEGORIES:Vie des campus
END:VEVENT
END:VCALENDAR