BEGIN:VCALENDAR
VERSION:2.0
PRODID:-//UFR Lettres et Philosophie - UBE Dijon - ECPv5.9.0//NONSGML v1.0//EN
CALSCALE:GREGORIAN
METHOD:PUBLISH
X-WR-CALNAME:UFR Lettres et Philosophie - UBE Dijon
X-ORIGINAL-URL:https://ufr-lettres-philosophie.ube.fr
X-WR-CALDESC:évènements pour UFR Lettres et Philosophie - UBE Dijon
BEGIN:VTIMEZONE
TZID:UTC
BEGIN:STANDARD
TZOFFSETFROM:+0000
TZOFFSETTO:+0000
TZNAME:UTC
DTSTART:20210101T000000
END:STANDARD
END:VTIMEZONE
BEGIN:VEVENT
DTSTART;VALUE=DATE:20211012
DTEND;VALUE=DATE:20211013
DTSTAMP:20260422T131353
CREATED:20211006T153049Z
LAST-MODIFIED:20230202T153053Z
UID:6733-1633996800-1634083199@ufr-lettres-philosophie.ube.fr
SUMMARY:Tout Dijon Donne... son sang !
DESCRIPTION:Entamez la rentrée du bon bras en donnant votre sang mardi 12 octobre sur le campus universitaire de Dijon. Organisez votre venue en réservant votre créneau dès maintenant sur  mon-rdv-dondesang.efs.sante.fr   \nChaque jour 600 dons sont nécessaires en Bourgogne Franche-Comté pour répondre aux besoins des malades\, chaque don compte. Ensemble\, faisons de Dijon LA ville du don !
URL:https://ufr-lettres-philosophie.ube.fr/agenda/tout-dijon-donne-son-sang
LOCATION:Maison de l’Etudiant – Dijon\, Maison de l’Etudiant - Dijon
CATEGORIES:Vie des campus
END:VEVENT
END:VCALENDAR