BEGIN:VCALENDAR
VERSION:2.0
PRODID:-//UFR Lettres et Philosophie - UBE Dijon - ECPv5.9.0//NONSGML v1.0//EN
CALSCALE:GREGORIAN
METHOD:PUBLISH
X-WR-CALNAME:UFR Lettres et Philosophie - UBE Dijon
X-ORIGINAL-URL:https://ufr-lettres-philosophie.ube.fr
X-WR-CALDESC:évènements pour UFR Lettres et Philosophie - UBE Dijon
BEGIN:VTIMEZONE
TZID:Europe/Paris
BEGIN:DAYLIGHT
TZOFFSETFROM:+0100
TZOFFSETTO:+0200
TZNAME:CEST
DTSTART:20220327T010000
END:DAYLIGHT
BEGIN:STANDARD
TZOFFSETFROM:+0200
TZOFFSETTO:+0100
TZNAME:CET
DTSTART:20221030T010000
END:STANDARD
END:VTIMEZONE
BEGIN:VEVENT
DTSTART;TZID=Europe/Paris:20220208T123000
DTEND;TZID=Europe/Paris:20220208T133000
DTSTAMP:20260423T235325
CREATED:20220112T153137Z
LAST-MODIFIED:20230202T153057Z
UID:7754-1644323400-1644327000@ufr-lettres-philosophie.ube.fr
SUMMARY:Visite de l'expo POP
DESCRIPTION:Saviez-vous que les universités de Bourgogne et de Franche-Comté ne se limitent pas uniquement à l’enseignement et à la recherche ? Elles sont aussi\, grâce à leurs nombreux laboratoires\, des lieux de savoir-faire\, d’expertise et de création. Elles font de notre région un territoire riche en innovations techniques et technologiques. Chercheur.e.s\, ingénieur.e.s\, technicien.ne.s travaillent ensemble\, main dans la main\, pour construire la science d’aujourd’hui et de demain. Les prototypes\, objets particuliers\, entre expérimentation et industrialisation\, sont au cœur de cette exposition. Développés pour les besoins d’une expérience ou pour répondre à une question de société\, ils ont tous une histoire à vous raconter. Venez découvrir ces objets ainsi que les hommes et femmes qui les ont conçus à travers une scénographie mêlant présentation physique\, photos\, sons\, et vidéos. \nTeaserDécouvrir l’exposition virtuellement
URL:https://ufr-lettres-philosophie.ube.fr/agenda/visite-de-lexpo-pop
LOCATION:atheneum\, centre culturel de l’université de Bourgogne\, atheneum\, centre culturel de l'université de Bourgogne
CATEGORIES:Vie des campus
END:VEVENT
END:VCALENDAR